BEGIN:VCALENDAR
VERSION:2.0
PRODID:-//Mountain Club of Uganda - ECPv6.15.18//NONSGML v1.0//EN
CALSCALE:GREGORIAN
METHOD:PUBLISH
X-WR-CALNAME:Mountain Club of Uganda
X-ORIGINAL-URL:http://mcu.ug
X-WR-CALDESC:Events for Mountain Club of Uganda
REFRESH-INTERVAL;VALUE=DURATION:PT1H
X-Robots-Tag:noindex
X-PUBLISHED-TTL:PT1H
BEGIN:VTIMEZONE
TZID:Africa/Kampala
BEGIN:STANDARD
TZOFFSETFROM:+0300
TZOFFSETTO:+0300
TZNAME:EAT
DTSTART:20150101T000000
END:STANDARD
END:VTIMEZONE
BEGIN:VEVENT
DTSTART;TZID=Africa/Kampala:20160712T190000
DTEND;TZID=Africa/Kampala:20160712T210000
DTSTAMP:20260416T170318
CREATED:20160630T062647Z
LAST-MODIFIED:20160630T062647Z
UID:475-1468350000-1468357200@mcu.ug
SUMMARY:Tuesday Night Indoor Climbing
DESCRIPTION:We hold indoor climbing every Tuesday evening at 7-9pm at the International School of Uganda (ISU) in Lubowa. A range of different routes from beginner to more advanced. If you do not own any climbing equipment the Club has equipment there that you can borrow. Please bring sports clothes and some water. Climbers usually go for some food and beers nearby after climbing. The cost is free for members. Memberships cost 50\,000UGX for 1 year and 20\,000 for students
URL:http://mcu.ug/event/tuesday-night-indoor-climbing-17/
LOCATION:International School of Uganda\, Lubowa\, Uganda
CATEGORIES:Rock Climbing
ORGANIZER;CN="Mountain Club of Uganda":MAILTO:info(AT)mcu(DOT)ug
END:VEVENT
END:VCALENDAR