BEGIN:VCALENDAR
VERSION:2.0
PRODID:-//Mountain Club of Uganda - ECPv6.15.18//NONSGML v1.0//EN
CALSCALE:GREGORIAN
METHOD:PUBLISH
X-WR-CALNAME:Mountain Club of Uganda
X-ORIGINAL-URL:https://mcu.ug
X-WR-CALDESC:Events for Mountain Club of Uganda
REFRESH-INTERVAL;VALUE=DURATION:PT1H
X-Robots-Tag:noindex
X-PUBLISHED-TTL:PT1H
BEGIN:VTIMEZONE
TZID:Africa/Kampala
BEGIN:STANDARD
TZOFFSETFROM:+0300
TZOFFSETTO:+0300
TZNAME:EAT
DTSTART:20200101T000000
END:STANDARD
END:VTIMEZONE
BEGIN:VEVENT
DTSTART;VALUE=DATE:20210411
DTEND;VALUE=DATE:20210412
DTSTAMP:20260422T161045
CREATED:20210328T173813Z
LAST-MODIFIED:20210409T141645Z
UID:2775-1618099200-1618185599@mcu.ug
SUMMARY:Mountain Biking near Kampala
DESCRIPTION:MCU will organise a one-day mountain bike trip from Kampala in cooperation with Red Dirt bike! \n\nParticipation: 30\,000 UGX\n\n\nBike rental: 100\,000 UGX (optional)\n\n\nDeparture 8am from Ggaba beach.\n\n  \nLook into our Facebook Group for more information.
URL:https://mcu.ug/event/mountain-biking-near-kampala/
ATTACH;FMTTYPE=image/jpeg:https://mcu.ug/wp-content/uploads/2016/10/14606309_543392649182542_4326483183842993159_n.jpg
END:VEVENT
END:VCALENDAR