BEGIN:VCALENDAR
VERSION:2.0
PRODID:-//Mountain Club of Uganda - ECPv6.15.18//NONSGML v1.0//EN
CALSCALE:GREGORIAN
METHOD:PUBLISH
X-ORIGINAL-URL:https://mcu.ug
X-WR-CALDESC:Events for Mountain Club of Uganda
REFRESH-INTERVAL;VALUE=DURATION:PT1H
X-Robots-Tag:noindex
X-PUBLISHED-TTL:PT1H
BEGIN:VTIMEZONE
TZID:Africa/Kampala
BEGIN:STANDARD
TZOFFSETFROM:+0300
TZOFFSETTO:+0300
TZNAME:EAT
DTSTART:20200101T000000
END:STANDARD
END:VTIMEZONE
BEGIN:VEVENT
DTSTART;VALUE=DATE:20210508
DTEND;VALUE=DATE:20210510
DTSTAMP:20260425T153057
CREATED:20210422T054216Z
LAST-MODIFIED:20210422T054216Z
UID:2861-1620432000-1620604799@mcu.ug
SUMMARY:Kayaking Weekend
DESCRIPTION:MCU – KAYAKING WEEKENDS are on again! \nTogether with Kayak the Nile we will be running monthly kayaking weekends around Jinja with great (!) special discounts for all MCU members.\nThe first MCU kayaking weekend will roll out on May 08/09th. \nPaddlers of all levels – including beginners – are welcome. Non-kayakers are more than welcome to join and enjoy a chilled-out weekend with the MCU. There are plenty of non-kayaking options from mountain biking\, stand-up-paddle-boarding on the Nile\, going on community walks\, horseback riding and many more. Let’s get out of the big city and enjoy some fun together! \nIf you want to join\, please sign up here. \nYou’ll receive more information in an email\, including details about the lessons\, the MCU kayaking discount and our sleeping spot. \nSleeping spot: For this first weekend we’ll be staying at Nile It (of course you can stay wherever you want – but there will be a MCU BBQ on Saturday evening\, just saying…): http://www.nileitresort.com/ \nIf you have any questions – please email sabine.ebner@gmx.net.
URL:https://mcu.ug/event/kayaking-weekend-6/
ATTACH;FMTTYPE=image/jpeg:https://mcu.ug/wp-content/uploads/2020/01/Kayaking_Nile-Special_Nadine-Guenther-1.jpg
END:VEVENT
BEGIN:VEVENT
DTSTART;TZID=Africa/Kampala:20210509T130000
DTEND;TZID=Africa/Kampala:20210509T190000
DTSTAMP:20260425T153057
CREATED:20210422T144101Z
LAST-MODIFIED:20210504T120704Z
UID:2863-1620565200-1620586800@mcu.ug
SUMMARY:Lead Clinic at Clarke Quarry
DESCRIPTION:Learn how to lead climb – and to fall! \n \nThis clinic is for advanced climbers who want to take the next step. Instead of top roping\, where the rope is already up the cliff\, when lead climbing you bring the rope up yourself. Be ready for some adrenaline and lots of fun! \nTo participate\, you should be an MCU approved belayer. \nSign up here for the belay clinic this Sunday\, 1 to 7 pm at Clarke Quarry. The fee is 60 k. \nIf you have any questions\, please contact Zach: 0791 276 553. Please also inform Zach if you need to rent gear!
URL:https://mcu.ug/event/lead-clinic/
END:VEVENT
END:VCALENDAR