BEGIN:VCALENDAR
VERSION:2.0
PRODID:-//Mountain Club of Uganda - ECPv6.15.18//NONSGML v1.0//EN
CALSCALE:GREGORIAN
METHOD:PUBLISH
X-WR-CALNAME:Mountain Club of Uganda
X-ORIGINAL-URL:https://mcu.ug
X-WR-CALDESC:Events for Mountain Club of Uganda
REFRESH-INTERVAL;VALUE=DURATION:PT1H
X-Robots-Tag:noindex
X-PUBLISHED-TTL:PT1H
BEGIN:VTIMEZONE
TZID:Africa/Kampala
BEGIN:STANDARD
TZOFFSETFROM:+0300
TZOFFSETTO:+0300
TZNAME:EAT
DTSTART:20200101T000000
END:STANDARD
END:VTIMEZONE
BEGIN:VEVENT
DTSTART;VALUE=DATE:20210522
DTEND;VALUE=DATE:20210524
DTSTAMP:20260425T171117
CREATED:20210422T145221Z
LAST-MODIFIED:20210503T123835Z
UID:2868-1621641600-1621814399@mcu.ug
SUMMARY:Weekend Trip to Luwazi
DESCRIPTION:We are excited to announce that MCU will organize an overnight trip to Luwazi on 22 and 23 May. We will climb a lot\, eat together and sleep on top of the cliff with great views! \nClimbers who passed the MCU belay test are invited. If  you have not already passed the test\, please go with someone who will belay you. \nTrip fee: 10k UGX per day \nFood (Roasted goat or veggie option): 25k UGX \nSign up sheet \nIf you have any questions\, you can contact Zach for more information: 0791276553
URL:https://mcu.ug/event/weekend-trip-to-luwazi-2/
END:VEVENT
END:VCALENDAR