BEGIN:VCALENDAR
VERSION:2.0
PRODID:-//Mountain Club of Uganda - ECPv6.15.18//NONSGML v1.0//EN
CALSCALE:GREGORIAN
METHOD:PUBLISH
X-ORIGINAL-URL:https://mcu.ug
X-WR-CALDESC:Events for Mountain Club of Uganda
REFRESH-INTERVAL;VALUE=DURATION:PT1H
X-Robots-Tag:noindex
X-PUBLISHED-TTL:PT1H
BEGIN:VTIMEZONE
TZID:Africa/Kampala
BEGIN:STANDARD
TZOFFSETFROM:+0300
TZOFFSETTO:+0300
TZNAME:EAT
DTSTART:20200101T000000
END:STANDARD
END:VTIMEZONE
BEGIN:VEVENT
DTSTART;TZID=Africa/Kampala:20210627T080000
DTEND;TZID=Africa/Kampala:20210627T130000
DTSTAMP:20260425T191243
CREATED:20210526T144303Z
LAST-MODIFIED:20210526T144303Z
UID:2941-1624780800-1624798800@mcu.ug
SUMMARY:Social Ride & Run
DESCRIPTION:Together with Red Dirt Uganda we are running guided mountain biking and trail running tours in and around Kampala every last Sunday of the month. Runners and bikers are both welcome! \nWe take a boat from Beach House at Lake Victoria at 8am. Choose between a bike tour of around 30km or a run of around 12km in a beautiful environment. Runners and bikers share the same boat and go back again together. \nCosts: UGX 20k for boat and guide. Bring your own bike or rent one and a helmet for 100k. \nAny questions? Contact Sabine at sabine.ebner@gmx.net
URL:https://mcu.ug/event/social-ride-run-2/
ATTACH;FMTTYPE=image/jpeg:https://mcu.ug/wp-content/uploads/2016/10/14606309_543392649182542_4326483183842993159_n.jpg
END:VEVENT
END:VCALENDAR