BEGIN:VCALENDAR
VERSION:2.0
PRODID:-//Mountain Club of Uganda - ECPv6.15.18//NONSGML v1.0//EN
CALSCALE:GREGORIAN
METHOD:PUBLISH
X-WR-CALNAME:Mountain Club of Uganda
X-ORIGINAL-URL:https://mcu.ug
X-WR-CALDESC:Events for Mountain Club of Uganda
REFRESH-INTERVAL;VALUE=DURATION:PT1H
X-Robots-Tag:noindex
X-PUBLISHED-TTL:PT1H
BEGIN:VTIMEZONE
TZID:Africa/Kampala
BEGIN:STANDARD
TZOFFSETFROM:+0300
TZOFFSETTO:+0300
TZNAME:EAT
DTSTART:20200101T000000
END:STANDARD
END:VTIMEZONE
BEGIN:VEVENT
DTSTART;VALUE=DATE:20210912
DTEND;VALUE=DATE:20210913
DTSTAMP:20260426T002000
CREATED:20210817T170050Z
LAST-MODIFIED:20210817T170050Z
UID:3002-1631404800-1631491199@mcu.ug
SUMMARY:Mountain biking
DESCRIPTION:Together with Bike Shop Uganda we are running bi-weekly mountain biking trips (Sunday\, half-day) in and around Kampala. \nDepending on the route\, the trips are around 20 to 25km\, starting at 8am at Beach House Garden Ggaba. The rides finish at around 1 pm. \nCosts for MCU members exclusively: 10k and extra 10k in case of boat transfer\, bike rental (incl. helmet) 100k \nSign up here!
URL:https://mcu.ug/event/mountain-biking-2/
ATTACH;FMTTYPE=image/jpeg:https://mcu.ug/wp-content/uploads/2021/08/WhatsApp-Image-2021-08-15-at-20.33.08.jpeg
END:VEVENT
END:VCALENDAR