BEGIN:VCALENDAR
VERSION:2.0
PRODID:-//Mountain Club of Uganda - ECPv6.15.18//NONSGML v1.0//EN
CALSCALE:GREGORIAN
METHOD:PUBLISH
X-ORIGINAL-URL:https://mcu.ug
X-WR-CALDESC:Events for Mountain Club of Uganda
REFRESH-INTERVAL;VALUE=DURATION:PT1H
X-Robots-Tag:noindex
X-PUBLISHED-TTL:PT1H
BEGIN:VTIMEZONE
TZID:Africa/Kampala
BEGIN:STANDARD
TZOFFSETFROM:+0300
TZOFFSETTO:+0300
TZNAME:EAT
DTSTART:20200101T000000
END:STANDARD
END:VTIMEZONE
BEGIN:VEVENT
DTSTART;VALUE=DATE:20210918
DTEND;VALUE=DATE:20210920
DTSTAMP:20260426T002314
CREATED:20210503T132414Z
LAST-MODIFIED:20210503T132414Z
UID:2909-1631923200-1632095999@mcu.ug
SUMMARY:Source of the Nile Race
DESCRIPTION:The MCU will have a Running and Biking Team at this event. More information coming soon!
URL:https://mcu.ug/event/source-of-the-nile-race/
ATTACH;FMTTYPE=image/jpeg:https://mcu.ug/wp-content/uploads/2019/05/MCU-biking-2.jpg
END:VEVENT
BEGIN:VEVENT
DTSTART;VALUE=DATE:20210918
DTEND;VALUE=DATE:20210920
DTSTAMP:20260426T002314
CREATED:20210817T160806Z
LAST-MODIFIED:20210817T160806Z
UID:2986-1631923200-1632095999@mcu.ug
SUMMARY:Kayaking Trip to Jinja
DESCRIPTION:Together with Kayak the Nile we are running our kayaking weekends again!! \nThere are some slight adjustments to prevent the spread of COVID-19: \n\nTwo trips per month to avoid a big group gathering\nMax. 9 people for one weekend in groups of 3 people in one kayaking group\nTime slots to avoid big group briefings or lunch\nMCU is not organizing any accommodation and does not encourage to stay altogether in one camp; there will be also no collective dinner/BBQ plan for the evening\nFor all who hold or plan to purchase the 5 lessons bundle (applies normally for min. 4 MCU members)\, this will be possible for only 10 USD extra per person (more information on pricing in the all-you-need-to-know sheet – find the link in the sign up sheet)\nWe highly encourage everyone who travels together also could stay together in one kayaking group (so kindly check on the level of each other).\nPreventative measurements for COVID-19 must be taken serious. Temperature check on arrival\, sanitize hands on arrival\, masks must be worn (correctly!) when not in the water\, hands should be sanitzed or washed regularly\, social distancing required (as much as is possible). In any case someone gets tested positive for COVID-19 within 14 days after the weekend\, please follow the suggested SOPs by the MCU: https://docs.google.com/document/d/17y_4Czxil21ycWA0674J2rh_ttbkI2WCxgckerHwc94/edit?usp=sharing\n\nSign up here for the 18th and 19th of September! Let’s have some fun on the Nile 🙂
URL:https://mcu.ug/event/kayaking-trip-to-jinja-3/
ATTACH;FMTTYPE=image/jpeg:https://mcu.ug/wp-content/uploads/2019/05/MCU-kayaking-3.jpg
END:VEVENT
END:VCALENDAR