BEGIN:VCALENDAR
VERSION:2.0
PRODID:-//Mountain Club of Uganda - ECPv6.15.18//NONSGML v1.0//EN
CALSCALE:GREGORIAN
METHOD:PUBLISH
X-ORIGINAL-URL:https://mcu.ug
X-WR-CALDESC:Events for Mountain Club of Uganda
REFRESH-INTERVAL;VALUE=DURATION:PT1H
X-Robots-Tag:noindex
X-PUBLISHED-TTL:PT1H
BEGIN:VTIMEZONE
TZID:Africa/Kampala
BEGIN:STANDARD
TZOFFSETFROM:+0300
TZOFFSETTO:+0300
TZNAME:EAT
DTSTART:20170101T000000
END:STANDARD
END:VTIMEZONE
BEGIN:VEVENT
DTSTART;TZID=Africa/Kampala:20230225T070000
DTEND;TZID=Africa/Kampala:20230225T120000
DTSTAMP:20260419T013401
CREATED:20230221T113705Z
LAST-MODIFIED:20230221T113705Z
UID:3264-1677308400-1677326400@mcu.ug
SUMMARY:Luwazi Rock Climbing Day Trip
DESCRIPTION:MCU is organizing a climbing day trip to Luwazi. \nWe’ll set up the ropes at the crag\, but you need to organize your own transport. \nYou need to have passed the MCU belay test\, or demonstrate correct belay technique to participate. If you have not already passed the belay test\, please come with someone who will belay you. \nTrip fee: 25\,000 UGX per person\, inclusive of gear rental & parking. \nPlease bring along snacks and enough water\, and ensure you get to the crag early\, as prime climbing time is between 7am to midday\, after which it gets too hot to climb. \nDirections to the Luwazi crag can be found here: http://mcu.ug/climbing/luwazi  \nSign up sheet is linked here: https://docs.google.com/spreadsheets/d/1Cgks-BfowDcmqXRac8MgIPWdHmBO1RKw/edit?usp=sharing&ouid=107329279293831467708&rtpof=true&sd=true
URL:https://mcu.ug/event/luwazi-rock-climbing-day-trip/
CATEGORIES:Rock Climbing
ATTACH;FMTTYPE=image/jpeg:https://mcu.ug/wp-content/uploads/2022/08/Climbing-Luwazi-April-22-5.jpg
END:VEVENT
BEGIN:VEVENT
DTSTART;TZID=Africa/Kampala:20230115T120000
DTEND;TZID=Africa/Kampala:20230115T140000
DTSTAMP:20260419T013401
CREATED:20230109T094710Z
LAST-MODIFIED:20230109T094710Z
UID:3255-1673784000-1673791200@mcu.ug
SUMMARY:Belay Clinic
DESCRIPTION:Exciting opportunity for all newbies: Learn all about belay techniques for rock climbing and become an independent climber! \nThe event will take place at the CIU Clarke Quarry on Sunday 15th January from 12 am to 2 pm. The cost is 40\,000 UGX and includes equipment rental. Please note that only MCU members may attend\, but memberships will be available there for purchase if you don’t currently have one or need to renew your membership. \nSign up here: \nhttps://docs.google.com/spreadsheets/d/1pCer6RGg_l5jcmoNtA7Ws6fDCqugIOQDPxKVFBSE1Mc/edit?usp=sharing  \nSee you there!
URL:https://mcu.ug/event/belay-clinic-5/
CATEGORIES:Rock Climbing
ATTACH;FMTTYPE=image/jpeg:https://mcu.ug/wp-content/uploads/2022/11/MCU-Belay-Clinic-e1673257569628.jpg
END:VEVENT
BEGIN:VEVENT
DTSTART;TZID=Africa/Kampala:20221112T080000
DTEND;TZID=Africa/Kampala:20221113T170000
DTSTAMP:20260419T013401
CREATED:20221101T122044Z
LAST-MODIFIED:20221101T122044Z
UID:3235-1668240000-1668358800@mcu.ug
SUMMARY:Luwazi Rock Climbing & Camping Trip
DESCRIPTION:MCU is organizing a climbing and camping trip to Luwazi. We climb a lot\, eat together and sleep on top of the cliff with great views and sunsets! \nClimbers who passed the MCU belay test are invited. If you have not already passed the test\, please go with someone who will belay you. \nTrip fee: 10k UGX per day \nFood (Roasted goat or veggie option): 25k UGX \nSign up here!
URL:https://mcu.ug/event/luwazi-rock-climbing-camping-trip/
CATEGORIES:Camping,Rock Climbing,Social
ATTACH;FMTTYPE=image/jpeg:https://mcu.ug/wp-content/uploads/2022/08/Climbing-Luwazi-April-22-5.jpg
END:VEVENT
BEGIN:VEVENT
DTSTART;TZID=Africa/Kampala:20221106T120000
DTEND;TZID=Africa/Kampala:20221106T140000
DTSTAMP:20260419T013401
CREATED:20221101T120248Z
LAST-MODIFIED:20221101T120248Z
UID:3227-1667736000-1667743200@mcu.ug
SUMMARY:Belay Clinic
DESCRIPTION:Exciting opportunity for all newbies: Learn all about belay techniques for rock climbing and become an independent climber! \nThe event will take place at the CIU Clarke Quarry on Sunday 6th September from 12 am to 2 pm. The cost is 40\,000 UGX and includes equipment. Please note that only MCU members may attend\, but memberships will be available there for purchase. \nSign up here: https://docs.google.com/spreadsheets/d/1pCer6RGg_l5jcmoNtA7Ws6fDCqugIOQDPxKVFBSE1Mc/edit?usp=sharing \nSee you there!
URL:https://mcu.ug/event/belay-clinic-4/
CATEGORIES:Rock Climbing
ATTACH;FMTTYPE=image/jpeg:https://mcu.ug/wp-content/uploads/2022/11/MCU-Belay-Clinic-e1673257569628.jpg
END:VEVENT
BEGIN:VEVENT
DTSTART;TZID=Africa/Kampala:20221016T120000
DTEND;TZID=Africa/Kampala:20221016T140000
DTSTAMP:20260419T013401
CREATED:20221001T125549Z
LAST-MODIFIED:20221001T125549Z
UID:3217-1665921600-1665928800@mcu.ug
SUMMARY:Belay Clinic
DESCRIPTION:Exciting opportunity for all newbies: Learn all about belay techniques for rock climbing and become an independent climber! \nThe event will take place at the CIU Clarke Quarry on Sunday 4th September from 12 am to 2 pm. The cost is 20\,000 UGX and includes equipment. Please note that only MCU members may attend\, but memberships will be available there for purchase. \nSee you there!
URL:https://mcu.ug/event/belay-clinic-3/
CATEGORIES:Rock Climbing
ATTACH;FMTTYPE=image/jpeg:https://mcu.ug/wp-content/uploads/2022/10/MCU-Belay-Clinic-Post-1.jpg
END:VEVENT
BEGIN:VEVENT
DTSTART;TZID=Africa/Kampala:20220910T080000
DTEND;TZID=Africa/Kampala:20220911T170000
DTSTAMP:20260419T013401
CREATED:20220830T075658Z
LAST-MODIFIED:20220830T075658Z
UID:3198-1662796800-1662915600@mcu.ug
SUMMARY:Climbing Trip to Luwazi
DESCRIPTION:MCU is organizing a climbing and camping trip to Luwazi. We climb a lot\, eat together and sleep on top of the cliff with great views and sunsets! \nClimbers who passed the MCU belay test are invited. If you have not already passed the test\, please go with someone who will belay you. \nTrip fee: 10k UGX per day \nFood (Roasted goat or veggie option): 25k UGX \nSign up here!
URL:https://mcu.ug/event/climbing-trip-to-luwazi-2/
CATEGORIES:Rock Climbing,Social
ATTACH;FMTTYPE=image/jpeg:https://mcu.ug/wp-content/uploads/2022/08/Climbing-Luwazi-April-22-5.jpg
END:VEVENT
BEGIN:VEVENT
DTSTART;TZID=Africa/Kampala:20220904T120000
DTEND;TZID=Africa/Kampala:20220904T140000
DTSTAMP:20260419T013401
CREATED:20220830T080234Z
LAST-MODIFIED:20220830T080330Z
UID:3202-1662292800-1662300000@mcu.ug
SUMMARY:Belay Clinic
DESCRIPTION:Exciting opportunity for all newbies: Learn all about belay techniques for rock climbing and become an independent climber! \nSign up here \nThe event will take place at the CIU Clarke Quarry on Sunday 4th September from 12 am to 2 pm. The cost is 20\,000 UGX and includes equipment. Please note that only MCU members may attend\, but memberships will be available there for purchase. \nSee you there!
URL:https://mcu.ug/event/3202/
CATEGORIES:Rock Climbing
ATTACH;FMTTYPE=image/jpeg:https://mcu.ug/wp-content/uploads/2022/08/MCU-Belay-Clinic-Post.jpg
END:VEVENT
BEGIN:VEVENT
DTSTART;TZID=Africa/Kampala:20210502T000000
DTEND;TZID=Africa/Kampala:20210502T160000
DTSTAMP:20260419T013401
CREATED:20210328T180927Z
LAST-MODIFIED:20210428T150902Z
UID:2785-1619913600-1619971200@mcu.ug
SUMMARY:Belay Clinic at Bukasa Wall
DESCRIPTION:Exciting opportunity for all newbies: Learn all about belay techniques for rock climbing and become an independent climber! \nSign up here \nThe event will take place at Bukasa Wall on April 25 from 12 am to 4 pm. The cost is 20\,000 UGX and includes equipment. \nExcited to see you there! \n  \n 
URL:https://mcu.ug/event/belay-clinic-at-bukasa-wall/
CATEGORIES:Rock Climbing
ATTACH;FMTTYPE=image/jpeg:https://mcu.ug/wp-content/uploads/2020/02/rappelling_luwazi.jpg
END:VEVENT
BEGIN:VEVENT
DTSTART;VALUE=DATE:20210403
DTEND;VALUE=DATE:20210405
DTSTAMP:20260419T013401
CREATED:20210328T175752Z
LAST-MODIFIED:20210328T175752Z
UID:2781-1617408000-1617580799@mcu.ug
SUMMARY:Climbing Meet Up at Rwakobo Rock
DESCRIPTION:Calling all experienced climbers: Some club members are organising a meet up at Rwakobo Rock near Lake Mburo over Easter weekend. \nThis is an unsupported trip: Anyone wishing to join needs to be able to climb independently and provide their own gear. The club is not providing any equipment. \nExcited to see you there!
URL:https://mcu.ug/event/climbing-meet-up-at-rwakobo-rock/
CATEGORIES:Rock Climbing
ATTACH;FMTTYPE=image/jpeg:https://mcu.ug/wp-content/uploads/2019/03/MCU-Climbing-Photo-1-1.jpg
END:VEVENT
BEGIN:VEVENT
DTSTART;TZID=Africa/Kampala:20200809T120000
DTEND;TZID=Africa/Kampala:20200809T160000
DTSTAMP:20260419T013401
CREATED:20200803T110759Z
LAST-MODIFIED:20200803T111248Z
UID:2717-1596974400-1596988800@mcu.ug
SUMMARY:Climbing at the Bukasa Wall
DESCRIPTION:Join us this Sunday at the Bukasa Wall for an afternoon of climbing! \nPlease note that if you show up without signing up then you will (unfortunately) be turned away. \nTo keep everyone safe and to stay within GOU guidelines\, we can only permit 10 climbers at one time at the wall. Each week we will post a sign-in sheet via Google Docs around 12:00PM on Monday. The first 10 people to sign up get to go. If someone can’t make it\, the next person on the list will be notified to fill that spot. \nHere is the sign-up sheet. \nMasks and helmets are required for people belaying or hanging out at the bottom of the wall. \nHere are directions to the Bukasa Climbing Wall. \nClimb on!
URL:https://mcu.ug/event/climbing-at-the-bukasa-wall/
CATEGORIES:Rock Climbing
END:VEVENT
BEGIN:VEVENT
DTSTART;TZID=Africa/Kampala:20200802T120000
DTEND;TZID=Africa/Kampala:20200802T160000
DTSTAMP:20260419T013401
CREATED:20200727T083518Z
LAST-MODIFIED:20200727T091359Z
UID:2709-1596369600-1596384000@mcu.ug
SUMMARY:Climbing at Bukasa Wall
DESCRIPTION:AND WE ARE BACK!!! \nClimbing at the Bukasa Wall is back and we are stoked to the moon… but there are a few restrictions as we still live in the times of COVID. \nTo keep everyone safe and to stay within GOU guidelines\, we can only permit 10 climbers at one time at the wall. Each week we will post a sign-in sheet via Google Docs around 12:00PM on Monday. The first 10 people to sign up get to go. If someone can’t make it\, the next person on the list will be notified to fill that spot. \nMasks are required for people belaying or hanging out at the bottom of the wall. \nClimbing will take place from 12-4 PM. \nHere is this week’s sign in sheet. \nAnd here are directions to the Bukasa Climbing Wall. \nClimb on! \n 
URL:https://mcu.ug/event/climbing-at-bukasa-wall/
CATEGORIES:Rock Climbing
END:VEVENT
BEGIN:VEVENT
DTSTART;TZID=Africa/Kampala:20190912T160000
DTEND;TZID=Africa/Kampala:20190912T190000
DTSTAMP:20260419T013401
CREATED:20190211T100520Z
LAST-MODIFIED:20190911T083407Z
UID:1863-1568304000-1568314800@mcu.ug
SUMMARY:Climbing at the MCU Quarry
DESCRIPTION:We hold outdoor climbing at 4:30-7pm at the MCU Quarry in Muyenga. \nAt the quarry you will find a range of routes from beginner to more advanced. If you do not own climbing equipment (ropes\, harness\, belay device\, helmet) the Club provides equipment that you can rent for 5\,000UGX. Please bring sports clothes\, water\, and some collateral for rental equipment. \nClimbers usually go for some food and beers at Cafe Roma after climbing. \nThe cost is free for members. Memberships cost 50\,000UGX for 1 year and 20\,000 for Ugandan students. New members can register at the event. \nDirections: From Tank Hill Road head toward Bukasa Road. Turn left onto Kalungi Road. Take your first right onto Kawagga Close. The quarry is on private property at the end of the road. Parking is available to MCU members
URL:https://mcu.ug/event/climbing-at-the-mcu-quarry-2/
CATEGORIES:Rock Climbing
END:VEVENT
BEGIN:VEVENT
DTSTART;TZID=Africa/Kampala:20190910T160000
DTEND;TZID=Africa/Kampala:20190910T190000
DTSTAMP:20260419T013401
CREATED:20190613T050110Z
LAST-MODIFIED:20190613T050110Z
UID:2197-1568131200-1568142000@mcu.ug
SUMMARY:Climbing at the MCU Quarry
DESCRIPTION:We hold outdoor climbing at 4:00-7:00pm at the MCU Quarry in Muyenga. \n\n\nAt the quarry you will find a range of routes from beginner to more advanced. If you do not own climbing equipment (ropes\, harness\, belay device\, helmet) the Club provides equipment that you can rent for 5\,000UGX. Please bring sports clothes\, water\, and some collateral for rental equipment. \nClimbers usually go for some food and beers at Cafe Roma after climbing. \nThe cost is free for members. Memberships cost 50\,000UGX for 1 year and 20\,000 for Ugandan students. New members can register at the event. \nDirections: From Tank Hill Road head toward Bukasa Road. Turn left onto Kalungi Road. Take your first right onto Kawagga Close. The quarry is on private property at the end of the road. Parking is available to MCU members
URL:https://mcu.ug/event/climbing-at-the-mcu-quarry-24/
CATEGORIES:Rock Climbing
END:VEVENT
BEGIN:VEVENT
DTSTART;TZID=Africa/Kampala:20190827T160000
DTEND;TZID=Africa/Kampala:20190827T190000
DTSTAMP:20260419T013401
CREATED:20190613T045934Z
LAST-MODIFIED:20190613T045934Z
UID:2195-1566921600-1566932400@mcu.ug
SUMMARY:Climbing at the MCU Quarry
DESCRIPTION:We hold outdoor climbing at 4:00-7:00pm at the MCU Quarry in Muyenga. \n\n\nAt the quarry you will find a range of routes from beginner to more advanced. If you do not own climbing equipment (ropes\, harness\, belay device\, helmet) the Club provides equipment that you can rent for 5\,000UGX. Please bring sports clothes\, water\, and some collateral for rental equipment. \nClimbers usually go for some food and beers at Cafe Roma after climbing. \nThe cost is free for members. Memberships cost 50\,000UGX for 1 year and 20\,000 for Ugandan students. New members can register at the event. \nDirections: From Tank Hill Road head toward Bukasa Road. Turn left onto Kalungi Road. Take your first right onto Kawagga Close. The quarry is on private property at the end of the road. Parking is available to MCU members
URL:https://mcu.ug/event/climbing-at-the-mcu-quarry-23/
CATEGORIES:Rock Climbing
END:VEVENT
BEGIN:VEVENT
DTSTART;TZID=Africa/Kampala:20190604T190000
DTEND;TZID=Africa/Kampala:20190604T210000
DTSTAMP:20260419T013401
CREATED:20190203T195813Z
LAST-MODIFIED:20190203T195813Z
UID:1858-1559674800-1559682000@mcu.ug
SUMMARY:Indoor climbing at ISU
DESCRIPTION:We hold indoor climbing on the first Tuesday evening of the month at 7-9pm at the International School of Uganda (ISU) in Lubowa. A range of different routes from beginner to more advanced. If you do not own any climbing equipment the Club has equipment there that you can borrow. Please bring sports clothes and some water. Climbers usually go for some food and beers nearby after climbing. The cost is free for members. Memberships cost 50\,000UGX for 1 year and 20\,000 for Ugandan students. New members can register at the event. \n  \nDirections: From Entebbe Road head toward Quality Shopping Village. Continue Straight 500m past the Bible University. ISU is on the right hand side.
URL:https://mcu.ug/event/indoor-climbing-at-isu-15/
CATEGORIES:Rock Climbing
END:VEVENT
BEGIN:VEVENT
DTSTART;TZID=Africa/Kampala:20190402T190000
DTEND;TZID=Africa/Kampala:20190402T210000
DTSTAMP:20260419T013401
CREATED:20190203T195540Z
LAST-MODIFIED:20190203T195540Z
UID:1854-1554231600-1554238800@mcu.ug
SUMMARY:Indoor climbing at ISU
DESCRIPTION:We hold indoor climbing on the first Tuesday evenings of the month at 7-9pm at the International School of Uganda (ISU) in Lubowa. A range of different routes from beginner to more advanced. If you do not own any climbing equipment the Club has equipment there that you can borrow. Please bring sports clothes and some water. Climbers usually go for some food and beers nearby after climbing. The cost is free for members. Memberships cost 50\,000UGX for 1 year and 20\,000 for Ugandan students. New members can register at the event. \n  \nDirections: From Entebbe Road head toward Quality Shopping Village. Continue Straight 500m past the Bible University. ISU is on the right hand side.
URL:https://mcu.ug/event/indoor-climbing-at-isu-13/
CATEGORIES:Rock Climbing
END:VEVENT
BEGIN:VEVENT
DTSTART;TZID=Africa/Kampala:20190212T160000
DTEND;TZID=Africa/Kampala:20190212T190000
DTSTAMP:20260419T013401
CREATED:20190203T200036Z
LAST-MODIFIED:20190203T200036Z
UID:1860-1549987200-1549998000@mcu.ug
SUMMARY:Climbing at the MCU Quarry
DESCRIPTION:We hold outdoor climbing at 4:30-7pm at the MCU Quarry in Muyenga.  \nAt the quarry you will find a range of routes from beginner to more advanced. If you do not own climbing equipment (ropes\, harness\, belay device\, helmet) the Club provides equipment that you can rent for 5\,000UGX. Please bring sports clothes\, water\, and some collateral for rental equipment.  \nClimbers usually go for some food and beers at Cafe Roma after climbing.  \nThe cost is free for members. Memberships cost 50\,000UGX for 1 year and 20\,000 for Ugandan students. New members can register at the event. \nDirections: From Tank Hill Road head toward Bukasa Road. Turn left onto Kalungi Road. Take your first right onto Kawagga Close. The quarry is on private property at the end of the road. Parking is available to MCU members
URL:https://mcu.ug/event/climbing-at-the-mcu-quarry/
CATEGORIES:Rock Climbing
END:VEVENT
BEGIN:VEVENT
DTSTART;TZID=Africa/Kampala:20181218T163000
DTEND;TZID=Africa/Kampala:20181218T190000
DTSTAMP:20260419T013401
CREATED:20181106T214046Z
LAST-MODIFIED:20181106T214046Z
UID:1797-1545150600-1545159600@mcu.ug
SUMMARY:Climbing at the MCU Muyenga Quarry
DESCRIPTION:
URL:https://mcu.ug/event/climbing-at-the-mcu-muyenga-quarry-18/
CATEGORIES:Rock Climbing
END:VEVENT
BEGIN:VEVENT
DTSTART;TZID=Africa/Kampala:20181211T163000
DTEND;TZID=Africa/Kampala:20181211T190000
DTSTAMP:20260419T013401
CREATED:20181106T214008Z
LAST-MODIFIED:20181106T214008Z
UID:1795-1544545800-1544554800@mcu.ug
SUMMARY:Climbing at the MCU Muyenga Quarry
DESCRIPTION:
URL:https://mcu.ug/event/climbing-at-the-mcu-muyenga-quarry-17/
CATEGORIES:Rock Climbing
END:VEVENT
BEGIN:VEVENT
DTSTART;TZID=Africa/Kampala:20181208T193000
DTEND;TZID=Africa/Kampala:20181208T210000
DTSTAMP:20260419T013401
CREATED:20181205T124700Z
LAST-MODIFIED:20181205T124700Z
UID:1809-1544297400-1544302800@mcu.ug
SUMMARY:Holiday Bouldering BBQ
DESCRIPTION:Join us for a bouldering social and BBQ at Niles’s residence in Muyenga (location:\nhttps://maps.google.com/?q=0.290943\,32.616389)! \n\nWe’ll bring some veggies and cookie dough; you bring drinks and any food you want to throw on the grill!  \nUgly holiday sweaters are encouraged!
URL:https://mcu.ug/event/holiday-bouldering-bbq/
CATEGORIES:Rock Climbing
END:VEVENT
BEGIN:VEVENT
DTSTART;TZID=Africa/Kampala:20181208T150000
DTEND;TZID=Africa/Kampala:20181208T190000
DTSTAMP:20260419T013401
CREATED:20181205T124539Z
LAST-MODIFIED:20181205T124539Z
UID:1807-1544281200-1544295600@mcu.ug
SUMMARY:Multi Pitch Clinic
DESCRIPTION:MCU is hosting a clinic on multi pitch climbing (led by Thijs and Colleen)! \nThe Climbing Safeties had first dibs to sign up but there are still 6 spots left. \nMinimum requirements are that you’ve had some experience lead climbing and good knowledge of climbing rope systems and equipment. \nSign up asap if you’re interested: https://docs.google.com/forms/d/e/1FAIpQLScmVW-XQlfazHGWfiZi3GtA2ykmmrCDizC7y7Ct7b3Rr42CCA/closedform \n 
URL:https://mcu.ug/event/multi-pitch-clinic/
CATEGORIES:Rock Climbing
END:VEVENT
BEGIN:VEVENT
DTSTART;TZID=Africa/Kampala:20181208T150000
DTEND;TZID=Africa/Kampala:20181208T190000
DTSTAMP:20260419T013401
CREATED:20181106T213932Z
LAST-MODIFIED:20181106T213932Z
UID:1793-1544281200-1544295600@mcu.ug
SUMMARY:Climbing at the MCU Muyenga Quarry
DESCRIPTION:
URL:https://mcu.ug/event/climbing-at-the-mcu-muyenga-quarry-16/
CATEGORIES:Rock Climbing
END:VEVENT
BEGIN:VEVENT
DTSTART;TZID=Africa/Kampala:20181204T190000
DTEND;TZID=Africa/Kampala:20181204T210000
DTSTAMP:20260419T013401
CREATED:20181106T213352Z
LAST-MODIFIED:20181106T213352Z
UID:1779-1543950000-1543957200@mcu.ug
SUMMARY:Indoor Climbing at ISU
DESCRIPTION:
URL:https://mcu.ug/event/indoor-climbing-at-isu-12/
CATEGORIES:Rock Climbing
END:VEVENT
BEGIN:VEVENT
DTSTART;TZID=Africa/Kampala:20181127T163000
DTEND;TZID=Africa/Kampala:20181127T190000
DTSTAMP:20260419T013401
CREATED:20181106T213853Z
LAST-MODIFIED:20181106T213853Z
UID:1791-1543336200-1543345200@mcu.ug
SUMMARY:Climbing at the MCU Muyenga Quarry
DESCRIPTION:
URL:https://mcu.ug/event/climbing-at-the-mcu-muyenga-quarry-15/
CATEGORIES:Rock Climbing
END:VEVENT
BEGIN:VEVENT
DTSTART;TZID=Africa/Kampala:20181113T163000
DTEND;TZID=Africa/Kampala:20181113T190000
DTSTAMP:20260419T013401
CREATED:20181106T213713Z
LAST-MODIFIED:20181106T213713Z
UID:1787-1542126600-1542135600@mcu.ug
SUMMARY:Climbing at the MCU Muyenga Quarry
DESCRIPTION:
URL:https://mcu.ug/event/climbing-at-the-mcu-muyenga-quarry-13/
CATEGORIES:Rock Climbing
END:VEVENT
BEGIN:VEVENT
DTSTART;TZID=Africa/Kampala:20181110T150000
DTEND;TZID=Africa/Kampala:20181110T190000
DTSTAMP:20260419T013401
CREATED:20181106T213615Z
LAST-MODIFIED:20181106T213615Z
UID:1785-1541862000-1541876400@mcu.ug
SUMMARY:Climbing at the MCU Muyenga Quarry
DESCRIPTION:
URL:https://mcu.ug/event/climbing-at-the-mcu-muyenga-quarry-12/
CATEGORIES:Rock Climbing
END:VEVENT
BEGIN:VEVENT
DTSTART;TZID=Africa/Kampala:20181106T163000
DTEND;TZID=Africa/Kampala:20181106T190000
DTSTAMP:20260419T013401
CREATED:20181106T213533Z
LAST-MODIFIED:20181106T213533Z
UID:1783-1541521800-1541530800@mcu.ug
SUMMARY:limbing at the MCU Muyenga Quarry
DESCRIPTION:
URL:https://mcu.ug/event/limbing-at-the-mcu-muyenga-quarry/
CATEGORIES:Rock Climbing
END:VEVENT
BEGIN:VEVENT
DTSTART;TZID=Africa/Kampala:20181031T160000
DTEND;TZID=Africa/Kampala:20181031T220000
DTSTAMP:20260419T013401
CREATED:20181029T065910Z
LAST-MODIFIED:20181029T065910Z
UID:1765-1541001600-1541023200@mcu.ug
SUMMARY:Halloween Night Climbing @ the MCU Quarry
DESCRIPTION:Come have a spooky night climb with us this Halloween at the Muyenga Quarry. \nCostumes are required! \nThe event starts at 4PM and will last until late in the night. We will bring the lighting\, you bring your costume and your happy scary self. \nHeadlamps are advised. \nWe will head to café Roma for drinks\, we can also order dinner from them directly at the quarry. \nSee more details here: https://www.facebook.com/events/2221855648039352/
URL:https://mcu.ug/event/halloween-night-climbing-the-mcu-quarry/
CATEGORIES:Rock Climbing,Social
END:VEVENT
BEGIN:VEVENT
DTSTART;TZID=Africa/Kampala:20181030T190000
DTEND;TZID=Africa/Kampala:20181030T210000
DTSTAMP:20260419T013401
CREATED:20181106T213312Z
LAST-MODIFIED:20181106T213312Z
UID:1777-1540926000-1540933200@mcu.ug
SUMMARY:Indoor Climbing at ISU
DESCRIPTION:
URL:https://mcu.ug/event/indoor-climbing-at-isu-11/
CATEGORIES:Rock Climbing
END:VEVENT
BEGIN:VEVENT
DTSTART;TZID=Africa/Kampala:20180915T140000
DTEND;TZID=Africa/Kampala:20180915T220000
DTSTAMP:20260419T013401
CREATED:20180811T103439Z
LAST-MODIFIED:20180907T091814Z
UID:1712-1537020000-1537048800@mcu.ug
SUMMARY:Rock Climbing Festival
DESCRIPTION:  \nTo all climbers and outdoor enthousiasts out there: We are holding the first ROCK CLIMBING FESTIVAL!!! \nThe event will take place on the 15th of September 2018 from 2PM at the MCU Muyenga Quarry and is designed for the whole family\, for seasoned climbers and for curious active people as well. \nClimbing gear will be available on site (5000 Ugx for MCU members and 15000 Ugx for non-members). \n  \nWe propose climbing skills clinics: \n\nclimbing safety\nbelaying techniques\n\n  \nFor the climbing-timid out there\, we will have team games available at the quarry site like volleyball\, viking chess\, slackline\, frisbee\, badminton\, football. \n  \nFood wise we will have tasty samosas and delicious cakes for purchase provided by Refuge and Hope International. It’s for a good cause\, so don’t hold back! \nWe will have a beverage bar with ice-cold refreshments to buy and water for free (please bring your own bottle for refills to be eco friendly 🙂 ) \nHere is the event program: \n \n  \nMusic will accompany our event all afternoon so bring along your dancing skills. \n  \nSave the date: 15th of Sept !!! \nSee you there! \n \n  \n 
URL:https://mcu.ug/event/rock-climbing-festival/
LOCATION:Muyenga Quarry
CATEGORIES:Rock Climbing
END:VEVENT
END:VCALENDAR