BEGIN:VCALENDAR
VERSION:2.0
PRODID:-//Mountain Club of Uganda - ECPv6.15.18//NONSGML v1.0//EN
CALSCALE:GREGORIAN
METHOD:PUBLISH
X-ORIGINAL-URL:https://mcu.ug
X-WR-CALDESC:Events for Mountain Club of Uganda
REFRESH-INTERVAL;VALUE=DURATION:PT1H
X-Robots-Tag:noindex
X-PUBLISHED-TTL:PT1H
BEGIN:VTIMEZONE
TZID:Africa/Kampala
BEGIN:STANDARD
TZOFFSETFROM:+0300
TZOFFSETTO:+0300
TZNAME:EAT
DTSTART:20150101T000000
END:STANDARD
END:VTIMEZONE
BEGIN:VEVENT
DTSTART;VALUE=DATE:20190511
DTEND;VALUE=DATE:20190512
DTSTAMP:20260423T051409
CREATED:20190125T173849Z
LAST-MODIFIED:20190125T173932Z
UID:1835-1557532800-1557619199@mcu.ug
SUMMARY:Kyaninga Triathlon
DESCRIPTION:Join the amazing sporting event in one of the most beautiful landscapes of Uganda. \nMore info here: https://www.kyaningatriathlon.com/
URL:https://mcu.ug/event/kyaninga-triathlon-4/
CATEGORIES:Mountain Biking,Running
END:VEVENT
BEGIN:VEVENT
DTSTART;VALUE=DATE:20190309
DTEND;VALUE=DATE:20190310
DTSTAMP:20260423T051409
CREATED:20190125T173143Z
LAST-MODIFIED:20190125T173143Z
UID:1831-1552089600-1552175999@mcu.ug
SUMMARY:Mihingo Marathon
DESCRIPTION:Join a fun weekend next to Lake Mburo National Park. \nYou don’t often get the chance to run with zebras. All profits go to Mihingo Conservation Foundation supporting conservation and a local school. The registration is closing on the 17th February 2019. \nMore info: https://www.facebook.com/mihingo.marathon.uganda.running.wild/
URL:https://mcu.ug/event/mihingo-marathon-2/
CATEGORIES:Mountain Biking,Running
END:VEVENT
BEGIN:VEVENT
DTSTART;VALUE=DATE:20190224
DTEND;VALUE=DATE:20190225
DTSTAMP:20260423T051409
CREATED:20190125T162408Z
LAST-MODIFIED:20190125T162408Z
UID:1829-1550966400-1551052799@mcu.ug
SUMMARY:Nabugabo Triathlon
DESCRIPTION:The annual Nabugabo sporting event is getting closer! \nMore info on : https://www.nabugabotriathlon.com/
URL:https://mcu.ug/event/nabugabo-triathlon/
CATEGORIES:Mountain Biking,Running
END:VEVENT
BEGIN:VEVENT
DTSTART;VALUE=DATE:20181127
DTEND;VALUE=DATE:20181204
DTSTAMP:20260423T051409
CREATED:20181029T064532Z
LAST-MODIFIED:20181029T064957Z
UID:1758-1543276800-1543881599@mcu.ug
SUMMARY:Running the Rift Marathon
DESCRIPTION:  \nFor details\, check out their website: https://www.runningtheriftmarathon.com/ \n 
URL:https://mcu.ug/event/running-the-rift-marathon/
CATEGORIES:Running
END:VEVENT
BEGIN:VEVENT
DTSTART;VALUE=DATE:20171125
DTEND;VALUE=DATE:20171126
DTSTAMP:20260423T051409
CREATED:20170811T145129Z
LAST-MODIFIED:20170811T145129Z
UID:1287-1511568000-1511654399@mcu.ug
SUMMARY:Kyaninga Triatlon
DESCRIPTION:Do you have what it takes to join the Kyaninga Triathlon in Fort Portal? \nMedium course \n\n750m swim\n16.5km bike\n4.5km run\n\nLong course \n\n1500m swim\n33km bike\n9km run\n\nDuathlon \n\n4.5km run\n16.5km bike\n4.5km run\n\nFun run \n\n5km run/walk\n\nFor prices\, great discounts on accommodation\, and more information check out www.kyaningatriathlon.com or www.facebook.com/kyaningatriathlon. For registration\, call +256 778 277 248 or mail info@kyaningacdc.org
URL:https://mcu.ug/event/kyaninga-triatlon/
CATEGORIES:Biking,Running
ORGANIZER;CN="Kyaninga Lodge":MAILTO:info(AT)kyaningalodge(DOT)com
END:VEVENT
BEGIN:VEVENT
DTSTART;VALUE=DATE:20171020
DTEND;VALUE=DATE:20171023
DTSTAMP:20260423T051409
CREATED:20170629T204611Z
LAST-MODIFIED:20170927T063955Z
UID:1210-1508457600-1508716799@mcu.ug
SUMMARY:MCU Lake Mburo weekend
DESCRIPTION:MCU will be heading to Lake Mburo for the weekend to enjoy a variety of activities – cycling\, rock climbing\, running\, walking\, Safari drives… \nActivities: \nThere’ll be different cycles organised for various abilities on Saturday and Sunday. Lake Mburo is known for its wildlife\, so get ready to cycle past zebras\, giraffes and buffalo. You can rent a bike from Rwakobo Rock if you don’t have your own (or from Red Dirt if Rwakobo Rock runs out). Please arrange this yourself. \nFor the more adventurous people there’ll be Leopards Rock to explore for climbing. It hasn’t been climbed for a few years but people that have rave about it. So this would be a great chance to check it out. \nThere’ll be other activities of offer\, such as game drives or community walks but they may incur a fee. \nAccommodation: \nYou’ll need to book your own accommodation! \nOur base will be Rwakobo Rock (www.rwakoborock.com)\, where you can stay in safari tents\, rooms or cottages. Accommodation is full-board. MCU members gets a 10% if you show your membership card. \nIf you prefer to camp\, Leopards Rest Camp (www.leopardrestcamp.com) is just down the hill from Rwakobo Rock and offers cheaper camping options. \nMeals: \nWe’ll be having meals together at Rwakobo Rock which will be putting on some amazing 3-course buffets for us. Walk-in meals will be $8 instead of the usual $12 for the peeps staying at Leopards Camp. \nTransport: \nMCU is not organising transport\, but there should be plenty of people driving to Lake Mburo. Please use the MCU Facebook page to organise ride sharing. \nSign-up: \nPlease sign up here and email laurabierer@gmail.com if you have any questions.
URL:https://mcu.ug/event/mcu-lake-mburo-weekend/
CATEGORIES:Biking,Hiking,Rock Climbing,Running
ORGANIZER;CN="Mountain Club of Uganda":MAILTO:info(AT)mcu(DOT)ug
END:VEVENT
BEGIN:VEVENT
DTSTART;VALUE=DATE:20170924
DTEND;VALUE=DATE:20170925
DTSTAMP:20260423T051409
CREATED:20170811T145522Z
LAST-MODIFIED:20170811T145522Z
UID:1293-1506211200-1506297599@mcu.ug
SUMMARY:Source of the Nile Trail Run Challenge
DESCRIPTION:The Source of the Nile Trail Running Challenge is a prestigious race with the most stunning and scenic trail you will probably ever run in your life! Set at the source of the Nile in Jinja\, Uganda\, the different running trails will not only take you along the banks of the great River Nile but upon rocky paths past the rapids and up to the scenic hills overlooking lake Victoria and down through villages and banana plantations. This year we will include a 50km distance for the truely adventurous Ultra Trail runners. This Ultra Trail race is proudly organized by Activate Uganda on the 24th of September 2017
URL:https://mcu.ug/event/source-of-the-nile-trail-run-challenge-2/
CATEGORIES:Running
END:VEVENT
BEGIN:VEVENT
DTSTART;TZID=Africa/Kampala:20170610T070000
DTEND;TZID=Africa/Kampala:20170610T170000
DTSTAMP:20260423T051409
CREATED:20170320T085216Z
LAST-MODIFIED:20170320T090549Z
UID:1076-1497078000-1497114000@mcu.ug
SUMMARY:Mihingo Marathon
DESCRIPTION:Friday 9th June is a public holiday\, why not plan an exciting long weekend in the bush? Mihingo Lodge is hosting their annual Marathon in the beautiful Lake Mburo national park.  \nRun wild with zebras\, warthogs\, eland and impala in support of the Mihingo Conservation Foundation\, supporting a local school with 180 children and compensating farmers for livestock killed by leopard and hyena to stop them from being poisoned. There is more info on this on the MCF Facebook site https://www.facebook.com/Mihingo-Conservation-Foundation-978654725493379/?fref=ts \nThe Charity Run and Mountain Bike Race includes the following event; 5 km Fun Run/ Walk $30\, 10 km Run\, Half or Full Marathon and 21 km Mountain Bike Race all $40 under 15’s all events $20. The registration fees include a T-shirt with all profits going to Mihingo Conservation Foundation. The race start will be at 7:00 am on 10th June 2017. \nCamping at Mihingo  \nMihingo Camping grounds are available at the race site near Mihingo Lodge. Camp facilities include cold showers\, long drop toilets\, drinking water\, firewood\, dustbin and washing up points. Mihingo camping fees are $10 US per person per night free for under 3’s. The campsite is open from Friday 9th to Sunday 11th June 2017 only. Please note food will not be available at Mihingo Lodge for campers\, please bring your own or if you would like to join in the camp meals please note it on your registration form. Food will be provided at $8 per dinner (Friday & Saturday)\, $8 per lunch (Saturday only) and $4 for breakfast (Saturday & Sunday). The food will be simple and good\, but nothing fancy\, not like the Mihingo Lodge food. \nTravel to Lake Mburo \nHead out of Kampala along the Masaka/Mbarara road. Approximately an hour after Masaka you will pass through Lyantonde town\, this is the best place to refuel before turning off the main road. \nAccessing Mihingo campsite & Lodge \nThrough the Park:\n15km’s after Lyantonde you will pass a small trading centre Akageti. 500m metres after this is the turning to Lake Mburo National Park. Follow this road to Nshara Gate. From Nshara to Mihingo always take the left turning at each junction. You will then reach Kanyashara gate. From here turn right and continue up the hill if you are staying at the lodge. If you are camping follow the campsite signs from the gate. Park entry fees will apply. Please find them here: http://www.ugandawildlife.org/images/pdfs/Tariffs-2014-2015.pdf \nOutside the Park:\nNo park entry fees need to be paid. Before the turning to Lake Mburo you will pass through Akageti trading centre. Towards the end of this trading centre on the left there is a main murram road. Turn left on to this and follow. After approximately half an hour (15km) you will pass through a small trading centre called Akashenshero. Continue straight along the murram road for another kilometre. There will be a turning to your right with a sign to the camp. Follow these signs for another 2km and you will arrive. You will need to have a 4 x 4 car to access this road if it has been raining a lot\, drive time is approximately 40 minutes to the camping grounds from the main road. If you would like a boda to guide you\, it should cost approximately 3\,000 UGX from Akashenshero.
URL:https://mcu.ug/event/mihingo-marathon/
CATEGORIES:Mountain Biking,Running
ATTACH;FMTTYPE=image/jpeg:https://mcu.ug/wp-content/uploads/2017/03/images.jpeg
END:VEVENT
BEGIN:VEVENT
DTSTART;VALUE=DATE:20170430
DTEND;VALUE=DATE:20170501
DTSTAMP:20260423T051409
CREATED:20170327T144556Z
LAST-MODIFIED:20170327T144556Z
UID:1080-1493510400-1493596799@mcu.ug
SUMMARY:Mpanga Forest Trail Challenge
DESCRIPTION:Activate Uganda is pleased to announce the 4th Edition of the Mpanga Trail Running Challenge scheduled for 30th of April 2017. \nThe Mpanga Forest Trail Running Challenge is one of the most beautiful running routes to be done in Uganda\, suitable for both adults and children. The trail runs through the Mpanga Forest Reserve and Mpigi Village\, passing through some extraordinary views of a variety of landscapes. It’s a race you shouldn’t miss!! \nMpanga Forest is a 45 minute drive from Kampala on Makasa Road\, 2km away from Mpigi town (about 36km from Kampala). \nDistances: 5km\, 12km\, and 21km  \nKids Distance: 3km \nFees: 50\,000 ugx Adults\n40\,000 ugx Kids\nT-shirt: 70\,000 UGX  \nContact: activate.uganda@gmail.com\ninfo@activateuganda.com\n+256 (0)755 017066
URL:https://mcu.ug/event/mpanga-forest-trail-challenge/
LOCATION:Mpanga Forest\, Uganda
CATEGORIES:Running
END:VEVENT
BEGIN:VEVENT
DTSTART;VALUE=DATE:20161210
DTEND;VALUE=DATE:20161211
DTSTAMP:20260423T051409
CREATED:20160920T125955Z
LAST-MODIFIED:20160920T130214Z
UID:617-1481328000-1481414399@mcu.ug
SUMMARY:Kyaninga Triathlon
DESCRIPTION:
URL:https://mcu.ug/event/kyaninga-triathlon-2/
LOCATION:Kyaninga Lodge
CATEGORIES:Biking,Running
ATTACH;FMTTYPE=image/jpeg:https://mcu.ug/wp-content/uploads/2016/09/13891918_578569422305422_585936426889711319_n.jpg
ORGANIZER;CN="Kyaninga Lodge":MAILTO:info(AT)kyaningalodge(DOT)com
END:VEVENT
BEGIN:VEVENT
DTSTART;VALUE=DATE:20160925
DTEND;VALUE=DATE:20160926
DTSTAMP:20260423T051409
CREATED:20160920T125431Z
LAST-MODIFIED:20160920T125529Z
UID:615-1474761600-1474847999@mcu.ug
SUMMARY:Source of the Nile Trail Run Challenge
DESCRIPTION:The Source of the Nile Trail Running Challenge is a prestigious race with the most stunning and scenic trail you will probably ever run in your life! Set at the source of the Nile in Jinja\, Uganda\, the different running trails will not only take you along the banks of the great River Nile but upon rocky paths past the rapids and up to the scenic hills overlooking lake Victoria and down through villages and banana plantations. The inaugural race is proudly organized by Activate Uganda on the 25th of September 2016. For more information check out www.sourceoftheniletrailrunchallenge.com
URL:https://mcu.ug/event/source-of-the-nile-trail-run-challenge/
LOCATION:Nile River Explorers\, Jinja\, Uganda
CATEGORIES:Running
ATTACH;FMTTYPE=image/jpeg:https://mcu.ug/wp-content/uploads/2016/09/Activate-Nile-Run_Sep-25.jpg
ORGANIZER;CN="Activate Uganda":MAILTO:activate.uganda(AT)gmail(DOT)com
END:VEVENT
BEGIN:VEVENT
DTSTART;TZID=Africa/Kampala:20160604T080000
DTEND;TZID=Africa/Kampala:20160604T170000
DTSTAMP:20260423T051409
CREATED:20160503T100713Z
LAST-MODIFIED:20160503T100713Z
UID:434-1465027200-1465059600@mcu.ug
SUMMARY:Mihingo Run and Mountain Bike Race
DESCRIPTION:Come check out the 4th Annual Mihingo Conservation Foundation – Mihingo Marathon scheduled for Saturday 4th June 2016\, near Lake Mburo National Park. \nThis spectacular event will have both running and mountain biking races for both individuals and teams. You cannot miss this opportunity to run along with the zebras! \nAll funds raised will be used by MCF to reduce the human-wildlife conflict around Lake Mburo and link communities to the benefits of living alongside wildlife. Last year MCF compensated 153 livestock (122 cows and 31 goats) killed or injured by leopard and hyena. \nSo come and run for conservation and see exactly what the MCF is working to protect during your race. \nCheck out Activate Uganda’s website for more details
URL:https://mcu.ug/event/mihingo-run-and-mountain-bike-race/
LOCATION:Mihingo Lodge\, Lake Mburo National Park\, Uganda
CATEGORIES:Biking,Running
ATTACH;FMTTYPE=image/jpeg:https://mcu.ug/wp-content/uploads/2016/05/13082671_940756519376458_6457263923628629923_n.jpg
ORGANIZER;CN="Activate Uganda":MAILTO:activate.uganda(AT)gmail(DOT)com
END:VEVENT
BEGIN:VEVENT
DTSTART;VALUE=DATE:20160423
DTEND;VALUE=DATE:20160425
DTSTAMP:20260423T051409
CREATED:20160315T074014Z
LAST-MODIFIED:20160315T074014Z
UID:317-1461369600-1461542399@mcu.ug
SUMMARY:Kyaninga Triathlon
DESCRIPTION:Swim\, bike and run along an unbelievably beautiful crater lake near Fort Portal in Western Uganda. Sign up for the short or medium course as an individual or as a team.
URL:https://mcu.ug/event/kyaninga-triathlon/
LOCATION:Kyaninga Lodge
CATEGORIES:Biking,Running
ATTACH;FMTTYPE=image/jpeg:https://mcu.ug/wp-content/uploads/2016/03/12809557_10153434194328861_8761206177794481146_n.jpg
ORGANIZER;CN="Kyaninga Lodge":MAILTO:info(AT)kyaningalodge(DOT)com
END:VEVENT
BEGIN:VEVENT
DTSTART;TZID=Africa/Kampala:20160417T073000
DTEND;TZID=Africa/Kampala:20160417T130000
DTSTAMP:20260423T051409
CREATED:20160408T090922Z
LAST-MODIFIED:20160408T091153Z
UID:380-1460878200-1460898000@mcu.ug
SUMMARY:Mpanga Forest Trail Running Challenge
DESCRIPTION:The Mpanga Forest Trail Running Challenge is one of the best races suitable for both adults and children as it’s not far from CBD and running in carbon free environment with very beautiful landscape. \nMpanga Forest is a 45 minute drive from Kampala on Makasa Road\, 2km from Mpigi town (about 36km from Kampala). \nThis is some of the most beautiful running to be done in Uganda. The trail runs through the forest of Mpanga Forest Reserve\, through Mpigi Village\, and also has beautiful views of a variety of landscapes. Come run with Nature!! It’s a race you shouldn’t miss!!\nDistance: 21km\, 12km\, and 5km\nKids Distances: 3km and 5km \nFees: 40\,000 Event Tshirt: 55\,000\nEvent Schedule:\n8:00 am 21km Start\n8:30 am 12km Start\n9:00 am 5km Start
URL:https://mcu.ug/event/mpanga-forest-trail-running-challenge/
LOCATION:Mpanga Forest\, Uganda
CATEGORIES:Running
ATTACH;FMTTYPE=image/jpeg:https://mcu.ug/wp-content/uploads/2016/04/1384127_914651135320330_4293611311054328327_n.jpg
ORGANIZER;CN="Activate Uganda":MAILTO:info@activateuganda.com
END:VEVENT
END:VCALENDAR