BEGIN:VCALENDAR
VERSION:2.0
PRODID:-//Mountain Club of Uganda - ECPv6.15.18//NONSGML v1.0//EN
CALSCALE:GREGORIAN
METHOD:PUBLISH
X-ORIGINAL-URL:https://mcu.ug
X-WR-CALDESC:Events for Mountain Club of Uganda
REFRESH-INTERVAL;VALUE=DURATION:PT1H
X-Robots-Tag:noindex
X-PUBLISHED-TTL:PT1H
BEGIN:VTIMEZONE
TZID:Africa/Kampala
BEGIN:STANDARD
TZOFFSETFROM:+0300
TZOFFSETTO:+0300
TZNAME:EAT
DTSTART:20150101T000000
END:STANDARD
END:VTIMEZONE
BEGIN:VEVENT
DTSTART;TZID=Africa/Kampala:20170601T193000
DTEND;TZID=Africa/Kampala:20170601T220000
DTSTAMP:20260424T152224
CREATED:20170530T105655Z
LAST-MODIFIED:20170530T105655Z
UID:1106-1496345400-1496354400@mcu.ug
SUMMARY:MCU May Meeting
DESCRIPTION:Come join us for our monthly meeting at 7.30 at Athena Club in Kololo. New and old members welcome\, we discuss past trips from the previous months trips and plan upcoming trips. It is also a great way to meet other people in the Club and share a few beers so hope to see you there!
URL:https://mcu.ug/event/mcu-may-meeting/
LOCATION:Athina Club\, Kololo\, Uganda
CATEGORIES:Social
END:VEVENT
BEGIN:VEVENT
DTSTART;VALUE=DATE:20170505
DTEND;VALUE=DATE:20170508
DTSTAMP:20260424T152224
CREATED:20170502T080148Z
LAST-MODIFIED:20170502T080739Z
UID:1096-1493942400-1494201599@mcu.ug
SUMMARY:Mountain Bike Festival
DESCRIPTION:Magic Mountainbiking \nOnly a 30-minute boatride away from busy Kampala lies a rather undiscovered area. A magical location without traffic\, fumes and hustler’s hassle. This area offers some of Uganda’s best mountainbike trails both singletrack and wider dirtroads which will lead you through lovely villages and beautiful nature. At the heart of it lies Weaver’s Nest. A place where you can really relax and enjoy the beauty of Uganda. In the weekend from May 5th to 7th Weaver’s Nest forms the base for the pilot of Red Dirt’s Mountainbike Festival. A festival designed for the bikefreak and his/her family. \nActivities \nWe will have scenic mountainbike rides for kids\, beginners and advanced during the day and an exciting ride at night. You can also join one of our mountainbike skill training or compete on the obstacle course. Besides biking there are plenty of other activities that you or your family can participate in: boatrides\, swimming pool\, cano\, bbq\, adventure park\, etc. Detailed information will follow soon. \nAccommodation \nWeaver’s Nest has two fully furnished houses with a great view available that each offers 10 sleeping places. Showers with hot water\, fully equiped kitchens\, a massive garden directly connected to Lake Victoria\, a campfire location\, a private jetty\, a swimming pool and more are all at your disposal. \nReservation \nAccommodation for the whole weekend (2 nights) is USD60 per person. Additional costs vary per activity. For reservation or more information please contact thies.timmermans@gmail.com or 0772458796. \nHope to see all of you there!
URL:https://mcu.ug/event/mountain-bike-festival/
CATEGORIES:Mountain Biking,Social
ATTACH;FMTTYPE=image/jpeg:https://mcu.ug/wp-content/uploads/2017/05/18119376_631514810370325_2820061345056098035_n.jpg
END:VEVENT
BEGIN:VEVENT
DTSTART;TZID=Africa/Kampala:20170406T193000
DTEND;TZID=Africa/Kampala:20170406T220000
DTSTAMP:20260424T152224
CREATED:20170328T112636Z
LAST-MODIFIED:20170328T112636Z
UID:1084-1491507000-1491516000@mcu.ug
SUMMARY:MCU April Meeting
DESCRIPTION:Come join us for our monthly meeting at 7.30 at Athena Club in Kololo. New and old members welcome\, we discuss past trips from the previous months trips and plan upcoming trips. It is also a great way to meet other people in the Club and share a few beers so hope to see you there!
URL:https://mcu.ug/event/mcu-april-meeting/
CATEGORIES:Social
ATTACH;FMTTYPE=image/jpeg:https://mcu.ug/wp-content/uploads/2015/11/rwenzori3.jpg
END:VEVENT
BEGIN:VEVENT
DTSTART;VALUE=DATE:20170218
DTEND;VALUE=DATE:20170220
DTSTAMP:20260424T152224
CREATED:20170126T054607Z
LAST-MODIFIED:20170126T054747Z
UID:783-1487376000-1487548799@mcu.ug
SUMMARY:3 day Wilderness First Aid Course
DESCRIPTION:The course will run for 3 full days from Saturday 18th February till Monday 20th February in Jinja. \nThe 3 day course includes Basic CPR and First Aid\, assessment\, trauma and medical emergencies\, Uganda specific emergency transport ideas\, and an overview of African illnesses. \nMCU members who wanted to take one of these courses will become certified through ECSI. This 2 year certification is an internationally recognised qualification. The card is digital which means no waiting on Ugandan post and you have your certification within days. \nIn the US\, first aid courses with CPR cost around $80-$100 per person and Wilderness First Aid courses $200-$300 per person. \nTo make the cost easy we have a standard price of $50/ person\, plus $15 for the online book. \nThe price is payable on the first day of the course. This is based on minimum uptake requirements of $500 (so 10 people). Supposing there are less people attending a course than the minimum\, the price per person adjusts to reach the minimum uptake. For example 5 people wanting to do the 3 day Wilderness first aid would need to pay $100/ person for the course to go ahead. Enrollment beyond the minimum uptake is an additional $50 per person. \nHaley Buffman is an Emergency Care and Safety Institute (ECSI) and American Heart Association (AHA) Instructor. She has held a Wilderness EMT-B certification since 2004. She also has 10 years of guiding experience\, 6 years of teaching experience\, and can tailor the course towards the Ugandan perspective on emergency medical response. This will be Haley’s 4th winter in Uganda and she understands the unique challenges emergencies present in sub-Saharan Africa. \nPlease sign up here if you’d like to take part https://goo.gl/forms/dXuJjhvO7szTbwW42 \nPlease let Haley (haleybuffman@gmail.com) or Laura (laurabierer@gmail.com) know if you have any more questions. \n 
URL:https://mcu.ug/event/3-day-wilderness-first-aid-course/
CATEGORIES:Social
ORGANIZER;CN="Laura Bierer":MAILTO:Laurabierer(AT)gmail.com 
END:VEVENT
BEGIN:VEVENT
DTSTART;TZID=Africa/Kampala:20170202T193000
DTEND;TZID=Africa/Kampala:20170202T210000
DTSTAMP:20260424T152224
CREATED:20161205T140704Z
LAST-MODIFIED:20170126T054953Z
UID:759-1486063800-1486069200@mcu.ug
SUMMARY:MCU Annual General Meeting and Elections
DESCRIPTION:The AGM is the one opportunity to make changes to the club constitution\, membership fees\, directors and committee members\, etc.  All members are invited to suggest or propose changes to the Club.  The AGM is the formal setting where such changes can be voted up or down.  Members wishing to make suggestions are always free to do so.  If you would like to make a suggestion you can send an email to info@mcu.ug. We look forward to your ideas and to further improving our club in 2017. \nAll the committee positions are up for vote! This is your chance to contribute to the MCU. We have put together a briefing HERE to show you what the roles are and the basic responsibilities. This can vary and people take on different responsibilities based on personal interest. \nA lot has happened this year and the MCU is now legally registered. We will be voting on the proposed changes to the Memorandum and Articles. A lot of time and effort has gone into reviewing the old Constitution. Please look at the draft document that would replace the old constitution HERE. \nThe AGM will be held in our normal spot at Athina Club on Windsor Crescent in Kololo from 7:30pm.
URL:https://mcu.ug/event/mcu-annual-general-meeting-and-elections/
LOCATION:Athina Club\, Kololo\, Uganda
CATEGORIES:Social
ATTACH;FMTTYPE=image/jpeg:https://mcu.ug/wp-content/uploads/2016/04/napak.jpg
ORGANIZER;CN="Mountain Club of Uganda":MAILTO:info(AT)mcu(DOT)ug
END:VEVENT
BEGIN:VEVENT
DTSTART;TZID=Africa/Kampala:20170112T193000
DTEND;TZID=Africa/Kampala:20170112T210000
DTSTAMP:20260424T152224
CREATED:20161205T124119Z
LAST-MODIFIED:20161205T124330Z
UID:737-1484249400-1484254800@mcu.ug
SUMMARY:MCU January Meeting
DESCRIPTION:Come join us for our monthly meeting at 7.30 at Athena Club in Kololo. New and old members welcome\, we discuss past trips from the previous months trips and plan upcoming trips. It is also a great way to meet other people in the Club and share a few beers so hope to see you there!
URL:https://mcu.ug/event/mcu-january-meeting/
LOCATION:Athina Club\, Kololo\, Uganda
CATEGORIES:Social
ATTACH;FMTTYPE=image/jpeg:https://mcu.ug/wp-content/uploads/2016/07/IMG_5370-e1480941793518.jpg
ORGANIZER;CN="Mountain Club of Uganda":MAILTO:info(AT)mcu(DOT)ug
END:VEVENT
BEGIN:VEVENT
DTSTART;TZID=Africa/Kampala:20161201T193000
DTEND;TZID=Africa/Kampala:20161201T203000
DTSTAMP:20260424T152224
CREATED:20160920T131235Z
LAST-MODIFIED:20160920T131235Z
UID:626-1480620600-1480624200@mcu.ug
SUMMARY:MCU Monthly Meeting
DESCRIPTION:On the first Thursday of every month we hold our monthly meeting at 7.30 at Athena Club in Kololo. New and old members welcome\, we discuss past trips from the previous months trips and plan upcoming trips. It is also a great way to meet other people in the Club and share a few beers so hope to see you there!
URL:https://mcu.ug/event/mcu-monthly-meeting-5/
LOCATION:Athina Club\, Kololo\, Uganda
CATEGORIES:Social
ATTACH;FMTTYPE=image/jpeg:https://mcu.ug/wp-content/uploads/2015/11/sipi.jpg
ORGANIZER;CN="Mountain Club of Uganda":MAILTO:info(AT)mcu(DOT)ug
END:VEVENT
BEGIN:VEVENT
DTSTART;TZID=Africa/Kampala:20161103T193000
DTEND;TZID=Africa/Kampala:20161103T203000
DTSTAMP:20260424T152224
CREATED:20160920T131157Z
LAST-MODIFIED:20160920T131157Z
UID:625-1478201400-1478205000@mcu.ug
SUMMARY:MCU Monthly Meeting
DESCRIPTION:On the first Thursday of every month we hold our monthly meeting at 7.30 at Athena Club in Kololo. New and old members welcome\, we discuss past trips from the previous months trips and plan upcoming trips. It is also a great way to meet other people in the Club and share a few beers so hope to see you there!
URL:https://mcu.ug/event/mcu-monthly-meeting-4/
LOCATION:Athina Club\, Kololo\, Uganda
CATEGORIES:Social
ATTACH;FMTTYPE=image/jpeg:https://mcu.ug/wp-content/uploads/2015/11/sabinyo2.jpg
ORGANIZER;CN="Mountain Club of Uganda":MAILTO:info(AT)mcu(DOT)ug
END:VEVENT
BEGIN:VEVENT
DTSTART;VALUE=DATE:20161029
DTEND;VALUE=DATE:20161031
DTSTAMP:20260424T152224
CREATED:20160908T102127Z
LAST-MODIFIED:20160923T072815Z
UID:575-1477699200-1477871999@mcu.ug
SUMMARY:Mpanga Forest Halloween Camping
DESCRIPTION:UPCOMING TRIP FOR ABSOLUTELY EVERYONE (Saturday 29th October to Sunday 30th October)!!… with an eerie twist…… \nAn affordable weekend of camping\, options to walk/run through a serene forest combined with some Halloween festivities?…. Sounds fun? Then read on…… \nWe are planning a MCU trip for a night in the beautiful Mpanga Forest\, with a fancy dress Halloween BBQ planned under the spooky forest canopy on the Saturday night….. \nMpanga Forest Reserve is about 1 hour west of Kampala\, near Mpigi town\, along the Masaka Road. Mpanga is recorded to have over 500 tree species and shrubs\, with some trees estimated to be 100-years old. There are over 200 bird species recorded in this reserve. The common birds to watch include\, hornbill\, spotted greenbul\, black and white casqued\, African pied hornbills\, Uganda woodland warbler\, great blue turaco and the ross turaco. Mammals found in Mpanga include; bushbuck\, red-tailed monkey and flying squirrels. Several butterfly species can also be observed throughout the reserve. \nWalking and running trails of various lengths can be enjoyed throughout the forest\, and on the Saturday night\, a fancy dress Halloween BBQ party will be organised in the spooky forest…. (don’t forget your fancy dress costume!) \nThe trip will run from Saturday 29th October to Sunday 30th October\, which gives ample time to explore the tranquil forest and surrounds. \nAccommodation and costs:  \nWe will stay at the basic\, but serene\, Mpanga Eco-Tourism Centre camp. As part of the MCU\, we have been fortunate to be able to negotiate some great rates\, and for a total of just UGX50k per person\, you will enjoy: \n\nEntrance fee to the forest\nCamping (bring your own tent)\nForest walk (short\, or long- as you wish)\nSaturday or Sunday lunch (local meal)\nEntry to Halloween BBQ party (please bring own meat/ vegetables to throw on the BBQ).\nSunday breakfast.\n\nThere are also options to upgrade to a dorm bed\, or a twin banda (for UGX10-20k per person\, depending on accommodation choice) \nCold showers are available\, and there are eco-friendly toilets. And if you ask nicely\, they will heat a bucket of water for you to enjoy a warm shower under the forest canopy. \nBeers and sodas are available for purchase at the camp\, although there are no refrigeration facilities\, so if you are partial to a cold drink\, a cool box/ esky might be a good idea J \nPoints to Note: \n\nIf you would like to bike\, the camp does not have bikes for rent\, so please bring your own.\nDon’t forget your fancy dress costume for the Halloween BBQ Party!!!\nAnd please also remember bug spray/ insect repellent and a torch J\n\nDirections: The camp can be found on google maps\, and is signposted off the main Masaka road on the right after Mpigi\, when heading from Kampala. \nContact: Any questions\, please contact Sally Holbrook at madsally@hotmail.com or on 0752 184057. \nPlease follow the link to book (please only complete if you are 100% sure you will be attending): https://docs.google.com/forms/d/e/1FAIpQLSeV2zQy_au348Xm9Rw-2YiOWmGv7p6UW-8XT73BSmJJhcr23w/viewform \nHope to see you there!
URL:https://mcu.ug/event/mpanga-forest-halloween-camping/
LOCATION:Mpanga Forest\, Uganda
CATEGORIES:Social
ATTACH;FMTTYPE=image/jpeg:https://mcu.ug/wp-content/uploads/2016/09/jack-o-lantern-pumpkins-11288879970iUJP.jpg
ORGANIZER;CN="Sally Holbrook":MAILTO:madsally(at)hotmail(dot)com
END:VEVENT
BEGIN:VEVENT
DTSTART;TZID=Africa/Kampala:20161006T193000
DTEND;TZID=Africa/Kampala:20161006T210000
DTSTAMP:20260424T152224
CREATED:20160913T082926Z
LAST-MODIFIED:20160913T082926Z
UID:581-1475782200-1475787600@mcu.ug
SUMMARY:MCU Monthly Meeting
DESCRIPTION:On the first Thursday of every month we hold our monthly meeting at 7.30 at Athena Club in Kololo. New and old members welcome\, we discuss past trips from the previous months trips and plan upcoming trips. It is also a great way to meet other people in the Club and share a few beers so hope to see you there!
URL:https://mcu.ug/event/mcu-monthly-meeting-3/
LOCATION:Athina Club\, Kololo\, Uganda
CATEGORIES:Social
ATTACH;FMTTYPE=image/jpeg:https://mcu.ug/wp-content/uploads/2015/11/rwenzori10.jpg
ORGANIZER;CN="Mountain Club of Uganda":MAILTO:info(AT)mcu(DOT)ug
END:VEVENT
BEGIN:VEVENT
DTSTART;TZID=Africa/Kampala:20160928T080000
DTEND;TZID=Africa/Kampala:20160928T170000
DTSTAMP:20260424T152224
CREATED:20160826T134259Z
LAST-MODIFIED:20160826T134259Z
UID:549-1475049600-1475082000@mcu.ug
SUMMARY:Banff Mountain Film Festival
DESCRIPTION:BANFF UGANDA IS BACK! Preparations are underway to bring to you the Fourth Annual Banff Mountain Film Festival in Uganda. \nSave the 21st and 28th of September 2016 for the Festival dates for a selection of this years most impressive and inspiring mountain and outdoor films. \nScreenings will take place at Century Cinemax Uganda\, Acacia Mall.
URL:https://mcu.ug/event/banff-mountain-film-festival-2/
LOCATION:Acacia Mall Theater
CATEGORIES:Social
ATTACH;FMTTYPE=image/png:https://mcu.ug/wp-content/uploads/2016/08/Screen-Shot-2016-08-26-at-4.39.25-PM.png
END:VEVENT
BEGIN:VEVENT
DTSTART;TZID=Africa/Kampala:20160921T080000
DTEND;TZID=Africa/Kampala:20160921T170000
DTSTAMP:20260424T152224
CREATED:20160826T134245Z
LAST-MODIFIED:20160826T134245Z
UID:550-1474444800-1474477200@mcu.ug
SUMMARY:Banff Mountain Film Festival
DESCRIPTION:BANFF UGANDA IS BACK! Preparations are underway to bring to you the Fourth Annual Banff Mountain Film Festival in Uganda. \nSave the 21st and 28th of September 2016 for the Festival dates for a selection of this years most impressive and inspiring mountain and outdoor films. \nScreenings will take place at Century Cinemax Uganda\, Acacia Mall.
URL:https://mcu.ug/event/banff-mountain-film-festival/
LOCATION:Acacia Mall Theater
CATEGORIES:Social
ATTACH;FMTTYPE=image/png:https://mcu.ug/wp-content/uploads/2016/08/Screen-Shot-2016-08-26-at-4.39.25-PM.png
END:VEVENT
BEGIN:VEVENT
DTSTART;TZID=Africa/Kampala:20160916T180000
DTEND;TZID=Africa/Kampala:20160916T180000
DTSTAMP:20260424T152224
CREATED:20160920T132857Z
LAST-MODIFIED:20160920T133043Z
UID:640-1474048800-1474048800@mcu.ug
SUMMARY:MCU Social BBQ
DESCRIPTION:Come get to know & hang out with other MCUers\, and play viking chess (**with at least one real viking)! \nBring:\n-some meat or vegetables to grill on the BBQ\n-beverages to drink \nWe’re trying to keep this a little low-key\, so please only bring other MCU members\, or those who are keen to join. We’ll have a reciept book and membership cards if anyone needs to sign-up or renew\, and shoot us a message if you are unsure or have questions!
URL:https://mcu.ug/event/mcu-social-bbq/
CATEGORIES:Social
ATTACH;FMTTYPE=image/jpeg:https://mcu.ug/wp-content/uploads/2015/11/sabinyo.jpg
ORGANIZER;CN="Laura Schmucker":MAILTO:laurakschmucker(AT)gmail(DOT)com
END:VEVENT
BEGIN:VEVENT
DTSTART;TZID=Africa/Kampala:20160901T193000
DTEND;TZID=Africa/Kampala:20160901T210000
DTSTAMP:20260424T152224
CREATED:20160826T134754Z
LAST-MODIFIED:20160826T134754Z
UID:559-1472758200-1472763600@mcu.ug
SUMMARY:MCU Monthly Meeting
DESCRIPTION:On the first Thursday of every month we hold our monthly meeting. NOTE: This time we will hold it at a different venue at the Backpackers Hostel & Campsite in Rubega backpackers.co.ug.  \nNew and old members welcome\, we discuss past trips from the previous months trips and plan upcoming trips. It is also a great way to meet other people in the Club and share a few beers so hope to see you there!
URL:https://mcu.ug/event/mcu-monthly-meeting-2/
CATEGORIES:Social
ATTACH;FMTTYPE=image/jpeg:https://mcu.ug/wp-content/uploads/2015/11/rwenzori9.jpg
ORGANIZER;CN="Mountain Club of Uganda":MAILTO:info(AT)mcu(DOT)ug
END:VEVENT
BEGIN:VEVENT
DTSTART;TZID=Africa/Kampala:20160804T193000
DTEND;TZID=Africa/Kampala:20160804T210000
DTSTAMP:20260424T152224
CREATED:20160713T083919Z
LAST-MODIFIED:20160713T083919Z
UID:522-1470339000-1470344400@mcu.ug
SUMMARY:August Monthly Meeting
DESCRIPTION:On the first Thursday of every month we hold our monthly meeting at 7.30 at Athena Club in Kololo. New and old members welcome\, we discuss past trips from the previous months trips and plan upcoming trips. It is also a great way to meet other people in the Club and share a few beers so hope to see you there!
URL:https://mcu.ug/event/august-monthly-meeting/
LOCATION:Athina Club\, Kololo\, Uganda
CATEGORIES:Social
ATTACH;FMTTYPE=image/jpeg:https://mcu.ug/wp-content/uploads/2015/11/rwenzori5.jpg
ORGANIZER;CN="Mountain Club of Uganda":MAILTO:info(AT)mcu(DOT)ug
END:VEVENT
BEGIN:VEVENT
DTSTART;TZID=Africa/Kampala:20160716T183000
DTEND;TZID=Africa/Kampala:20160716T210000
DTSTAMP:20260424T152224
CREATED:20160627T094125Z
LAST-MODIFIED:20160627T094417Z
UID:467-1468693800-1468702800@mcu.ug
SUMMARY:Reel Paddling Film Festival World Tour
DESCRIPTION:Since 2006\, the Reel Paddling Film Festival World Tour has been showcasing the very best paddling films. The World Tour screens in more than 120 cities around the world. This year for the first time it will be held in Uganda and is currently the only place in Africa. \nThe Festival will be held at the Nalubale Tea House in Jinja at 6.30pm for a 7pm start on Saturday the 16th July. We would like to highly thank our sponsors Nalubale Rafting Base & Tea House and Kayak the Nile (U) Ltd for their help with this event. \nJoin us for this year’s best paddling films. You’ll be inspired to explore rivers\, lakes and oceans\, push extremes\, embrace the paddling lifestyle and appreciate the wild places. \nFor event details please visit http://www.reelpaddlingfilmfestival.com/
URL:https://mcu.ug/event/reel-paddling-film-festival-world-tour/
LOCATION:Nalubale Rafting Base & Tea House
CATEGORIES:Kayaking,Social
ATTACH;FMTTYPE=image/jpeg:https://mcu.ug/wp-content/uploads/2016/06/13432430_10154264932052179_4550585742409707521_n.jpg
END:VEVENT
BEGIN:VEVENT
DTSTART;TZID=Africa/Kampala:20160707T193000
DTEND;TZID=Africa/Kampala:20160707T210000
DTSTAMP:20260424T152224
CREATED:20160518T081256Z
LAST-MODIFIED:20160518T081256Z
UID:451-1467919800-1467925200@mcu.ug
SUMMARY:July MCU Meeting
DESCRIPTION:On the first Thursday of every month we hold our monthly meeting at 7.30 at Athena Club in Kololo. New and old members welcome\, we discuss past trips from the previous months trips and plan upcoming trips. It is also a great way to meet other people in the Club and share a few beers so hope to see you there!
URL:https://mcu.ug/event/july-mcu-meeting/
LOCATION:Athina Club\, Kololo\, Uganda
CATEGORIES:Social
ORGANIZER;CN="Mountain Club of Uganda":MAILTO:info(AT)mcu(DOT)ug
END:VEVENT
BEGIN:VEVENT
DTSTART;TZID=Africa/Kampala:20160609T073000
DTEND;TZID=Africa/Kampala:20160609T140000
DTSTAMP:20260424T152224
CREATED:20160503T064039Z
LAST-MODIFIED:20160503T064454Z
UID:417-1465457400-1465480800@mcu.ug
SUMMARY:Seven Hills Walk
DESCRIPTION:Legend has it that Kampala\, like Rome\, is a city that was built on seven hills. The city derives its name Kampala for the Luganda work “Kasozi ka Mpala” which means a Hill of many Impala. The Kampala of today comprises of 21 hills\, but a walk through the 7 Hills will give you the opportunity to explore the genesis of the present day city. \nThe 7 hills are; Nsambya\, Kibuli\, Nakasero\, Old Kampala\, Namirembe\, Lubaga\, Lubiri. A route between the hills along paths and feeder road takes approx 6 hours.  The walk will be led by Deo Lubega (0712890369). The start and finish point will be the Moonland Gardens on Nsambya-Gaba Road (a safe place to park with a small charge).
URL:https://mcu.ug/event/seven-hills-walk/
LOCATION:Moonland Gardens\, Uganda
CATEGORIES:Hiking,Social
ATTACH;FMTTYPE=image/jpeg:https://mcu.ug/wp-content/uploads/2016/05/IMG_2175.jpg
ORGANIZER;CN="Deo Lubega":MAILTO:deolubega18(AT)gmail.com
END:VEVENT
BEGIN:VEVENT
DTSTART;TZID=Africa/Kampala:20160602T193000
DTEND;TZID=Africa/Kampala:20160602T210000
DTSTAMP:20260424T152224
CREATED:20160503T101537Z
LAST-MODIFIED:20160503T101759Z
UID:439-1464895800-1464901200@mcu.ug
SUMMARY:June MCU Meeting
DESCRIPTION:On the first Thursday of every month we hold our monthly meeting at 7.30 at Athena Club in Kololo. New and old members welcome\, we discuss past trips from the previous months trips and plan upcoming trips. It is also a great way to meet other people in the Club and share a few beers.
URL:https://mcu.ug/event/june-mcu-meeting/
LOCATION:Athina Club\, Kololo\, Uganda
CATEGORIES:Social
ATTACH;FMTTYPE=image/png:https://mcu.ug/wp-content/uploads/2016/05/Screen-Shot-2016-04-25-at-10.11.09-AM.png
ORGANIZER;CN="Mountain Club of Uganda":MAILTO:info(AT)mcu(DOT)ug
END:VEVENT
BEGIN:VEVENT
DTSTART;TZID=Africa/Kampala:20160507T093000
DTEND;TZID=Africa/Kampala:20160507T163000
DTSTAMP:20260424T152224
CREATED:20160503T071749Z
LAST-MODIFIED:20160503T072232Z
UID:428-1462613400-1462638600@mcu.ug
SUMMARY:Beekeeping Training Day
DESCRIPTION:Malaika Honey is holding a beekeeping training day open to MCU members. It’s being held down in at the Forever Forest permaculture site in Lubowa on the 7th of May. \nIts a day event giving classroom theoretical on the African bee covering biology\, division of labour\, work structure\, communication and handling skills followed by suiting up getting hands-on practise in the apiary and honey harvesting.\nIt includes videos presentations\, practicals\, lunch\, a permaculture introduction on-site and a graduation certificate. \n\nIt costs 55k prepaid and MCUers get a 10% discount.\nPlease call or email Lilian on;\n0702 326 202 / 0791 039 781\nlilian@malaikahoney.com
URL:https://mcu.ug/event/beekeeping-training-day/
LOCATION:Forever Forest permaculture site\, Lubowa\, Uganda
CATEGORIES:Social
ATTACH;FMTTYPE=image/png:https://mcu.ug/wp-content/uploads/2016/05/Screen-Shot-2016-05-03-at-10.19.57-AM.png
ORGANIZER;CN="Lilian":MAILTO:lilian(AT)malaikahoney.com
END:VEVENT
BEGIN:VEVENT
DTSTART;TZID=Africa/Kampala:20160316T193000
DTEND;TZID=Africa/Kampala:20160316T213000
DTSTAMP:20260424T152224
CREATED:20160315T065450Z
LAST-MODIFIED:20160315T081312Z
UID:285-1458156600-1458163800@mcu.ug
SUMMARY:Kayak film night @ Yasigi
DESCRIPTION:Join the Mountain Club of Uganda for a FREE night of short films about whitewater kayaking. 15 short films will be shown including MCU videos\, classic comedies\, and honest to god professional kayaking films featuring rivers in a variety of countries including Uganda\, Kenya\, Angola\, Zambia\, Zimbabwe\, Madagascar\, Chile\, Norway\, Iceland\, Russia\, Georgia\, Kyrgyzstan\, and the United States. So come on out for an epic night of whitewater paddling enjoyment at the best craft brewery in town.\nCheck out the Facebook link!
URL:https://mcu.ug/event/kayak-film-night-yasigi/
LOCATION:Yasigi Beer Garden\, Plot 40A windsor crescent rd\, Kololo\, Uganda
CATEGORIES:Kayaking,Social
ATTACH;FMTTYPE=image/jpeg:https://mcu.ug/wp-content/uploads/2016/03/11401483_10153130848522639_5081993061240195264_n.jpg
ORGANIZER;CN="Shannon Orcutt":MAILTO:info@mcu.ug
END:VEVENT
END:VCALENDAR