BEGIN:VCALENDAR
VERSION:2.0
PRODID:-//Mountain Club of Uganda - ECPv6.15.18//NONSGML v1.0//EN
CALSCALE:GREGORIAN
METHOD:PUBLISH
X-WR-CALNAME:Mountain Club of Uganda
X-ORIGINAL-URL:https://mcu.ug
X-WR-CALDESC:Events for Mountain Club of Uganda
REFRESH-INTERVAL;VALUE=DURATION:PT1H
X-Robots-Tag:noindex
X-PUBLISHED-TTL:PT1H
BEGIN:VTIMEZONE
TZID:Africa/Kampala
BEGIN:STANDARD
TZOFFSETFROM:+0300
TZOFFSETTO:+0300
TZNAME:EAT
DTSTART:20170101T000000
END:STANDARD
END:VTIMEZONE
BEGIN:VEVENT
DTSTART;TZID=Africa/Kampala:20180915T140000
DTEND;TZID=Africa/Kampala:20180915T220000
DTSTAMP:20260425T233235
CREATED:20180811T103439Z
LAST-MODIFIED:20180907T091814Z
UID:1712-1537020000-1537048800@mcu.ug
SUMMARY:Rock Climbing Festival
DESCRIPTION:  \nTo all climbers and outdoor enthousiasts out there: We are holding the first ROCK CLIMBING FESTIVAL!!! \nThe event will take place on the 15th of September 2018 from 2PM at the MCU Muyenga Quarry and is designed for the whole family\, for seasoned climbers and for curious active people as well. \nClimbing gear will be available on site (5000 Ugx for MCU members and 15000 Ugx for non-members). \n  \nWe propose climbing skills clinics: \n\nclimbing safety\nbelaying techniques\n\n  \nFor the climbing-timid out there\, we will have team games available at the quarry site like volleyball\, viking chess\, slackline\, frisbee\, badminton\, football. \n  \nFood wise we will have tasty samosas and delicious cakes for purchase provided by Refuge and Hope International. It’s for a good cause\, so don’t hold back! \nWe will have a beverage bar with ice-cold refreshments to buy and water for free (please bring your own bottle for refills to be eco friendly 🙂 ) \nHere is the event program: \n \n  \nMusic will accompany our event all afternoon so bring along your dancing skills. \n  \nSave the date: 15th of Sept !!! \nSee you there! \n \n  \n 
URL:https://mcu.ug/event/rock-climbing-festival/
LOCATION:Muyenga Quarry
CATEGORIES:Rock Climbing
END:VEVENT
BEGIN:VEVENT
DTSTART;TZID=Africa/Kampala:20180911T163000
DTEND;TZID=Africa/Kampala:20180911T190000
DTSTAMP:20260425T233235
CREATED:20180510T055050Z
LAST-MODIFIED:20180510T055050Z
UID:1618-1536683400-1536692400@mcu.ug
SUMMARY:Climbing at the MCU Muyenga Quarry
DESCRIPTION:
URL:https://mcu.ug/event/climbing-at-the-mcu-muyenga-quarry-11/
END:VEVENT
BEGIN:VEVENT
DTSTART;TZID=Africa/Kampala:20180908T150000
DTEND;TZID=Africa/Kampala:20180908T190000
DTSTAMP:20260425T233235
CREATED:20180903T090507Z
LAST-MODIFIED:20180903T090507Z
UID:1734-1536418800-1536433200@mcu.ug
SUMMARY:Safety Training @ MCU Quarry
DESCRIPTION:Another awesome Safety Training + Skills Clinics for those interested in volunteering as safeties during our weekly MCU climbing events at the quarry. We’ll be holding our next Safety Training on Saturday\, September 8\, followed by a Skills Clinic on how to climb more dynamically. \nRegister in advance! Get more details via the sign up form here.
URL:https://mcu.ug/event/safety-training-mcu-quarry-2/
CATEGORIES:Rock Climbing
END:VEVENT
BEGIN:VEVENT
DTSTART;TZID=Africa/Kampala:20180906T193000
DTEND;TZID=Africa/Kampala:20180906T210000
DTSTAMP:20260425T233235
CREATED:20171030T092007Z
LAST-MODIFIED:20180717T063533Z
UID:1420-1536262200-1536267600@mcu.ug
SUMMARY:MCU Monthly Meeting
DESCRIPTION:Join us for our regular meeting to hear about all the trips that have gone on\, upcoming trips\, or to find out how to plan your own.  These meetings are an excellent way to meet like minded people and get your next UG adventure on track!
URL:https://mcu.ug/event/mcu-monthly-meeting-18/
END:VEVENT
BEGIN:VEVENT
DTSTART;TZID=Africa/Kampala:20180904T190000
DTEND;TZID=Africa/Kampala:20180904T210000
DTSTAMP:20260425T233235
CREATED:20180510T055032Z
LAST-MODIFIED:20180510T055032Z
UID:1607-1536087600-1536094800@mcu.ug
SUMMARY:Indoor Climbing at ISU
DESCRIPTION:
URL:https://mcu.ug/event/indoor-climbing-at-isu-10/
END:VEVENT
BEGIN:VEVENT
DTSTART;VALUE=DATE:20180901
DTEND;VALUE=DATE:20180902
DTSTAMP:20260425T233235
CREATED:20180806T144800Z
LAST-MODIFIED:20180806T144800Z
UID:1708-1535760000-1535846399@mcu.ug
SUMMARY:Source of the Nile Triathlon
DESCRIPTION:This great addition to Ugandan triathlons is finally here !!! \n \n  \nGet all your info on the event page
URL:https://mcu.ug/event/source-of-the-nile-triathlon/
END:VEVENT
BEGIN:VEVENT
DTSTART;TZID=Africa/Kampala:20180828T163000
DTEND;TZID=Africa/Kampala:20180828T190000
DTSTAMP:20260425T233235
CREATED:20180510T055046Z
LAST-MODIFIED:20180510T055046Z
UID:1617-1535473800-1535482800@mcu.ug
SUMMARY:Climbing at the MCU Muyenga Quarry
DESCRIPTION:
URL:https://mcu.ug/event/climbing-at-the-mcu-muyenga-quarry-10/
END:VEVENT
BEGIN:VEVENT
DTSTART;VALUE=DATE:20180825
DTEND;VALUE=DATE:20180827
DTSTAMP:20260425T233235
CREATED:20180607T095523Z
LAST-MODIFIED:20180607T095523Z
UID:1642-1535155200-1535327999@mcu.ug
SUMMARY:MCU Kayaking Weekend - Bujagali 
DESCRIPTION:This weekend\, the MCU is headed to Jinja and the White Nile River for discounted group lessons with the stellar team at Kayak The Nile.\n\n\nPaddlers of all levels — especially beginners — are welcome. It’s always a fun weekend out of the big city! For more info\, including MCU discounts\, and anything else you might need to know\, sign up here.\n\n\n\nNon-kayakers are more than welcome to come and enjoy a chilled out weekend with MCU. There are plenty of non-kayaking options like swimming\, stand-up paddle boarding\, and more!\n\n\nBe sure to book accommodation with Nile River Explorers or Nile River Camp directly. Camping is available in addition to dorm rooms and safari tents.\n\nFor transport options\, it is possible to sign up for the NRE Shuttle\, but post to our Facebook page and we’ll hep you find a ride! If you’re a driver\, let us know!\n\nEmail Josh\, our Kayaking Coordinator at jsg1@ualberta.ca if you have any questions.
URL:https://mcu.ug/event/mcu-kayaking-weekend-bujagali-4/
CATEGORIES:Kayaking
END:VEVENT
BEGIN:VEVENT
DTSTART;TZID=Africa/Kampala:20180821T150000
DTEND;TZID=Africa/Kampala:20180821T190000
DTSTAMP:20260425T233235
CREATED:20180510T055031Z
LAST-MODIFIED:20180820T113013Z
UID:1606-1534863600-1534878000@mcu.ug
SUMMARY:Climbing at the MCU Quarry
DESCRIPTION:
URL:https://mcu.ug/event/indoor-climbing-at-isu-9/
END:VEVENT
BEGIN:VEVENT
DTSTART;TZID=Africa/Kampala:20180814T163000
DTEND;TZID=Africa/Kampala:20180814T190000
DTSTAMP:20260425T233235
CREATED:20180510T055046Z
LAST-MODIFIED:20180510T055046Z
UID:1616-1534264200-1534273200@mcu.ug
SUMMARY:Climbing at the MCU Muyenga Quarry
DESCRIPTION:
URL:https://mcu.ug/event/climbing-at-the-mcu-muyenga-quarry-9/
END:VEVENT
BEGIN:VEVENT
DTSTART;TZID=Africa/Kampala:20180807T190000
DTEND;TZID=Africa/Kampala:20180807T210000
DTSTAMP:20260425T233235
CREATED:20180510T055031Z
LAST-MODIFIED:20180510T055031Z
UID:1605-1533668400-1533675600@mcu.ug
SUMMARY:Indoor Climbing at ISU
DESCRIPTION:
URL:https://mcu.ug/event/indoor-climbing-at-isu-8/
END:VEVENT
BEGIN:VEVENT
DTSTART;TZID=Africa/Kampala:20180802T193000
DTEND;TZID=Africa/Kampala:20180802T210000
DTSTAMP:20260425T233235
CREATED:20171030T091905Z
LAST-MODIFIED:20180717T063432Z
UID:1418-1533238200-1533243600@mcu.ug
SUMMARY:MCU Monthly Meeting
DESCRIPTION:Join us for our regular meeting to hear about all the trips that have gone on\, upcoming trips\, or to find out how to plan your own.  These meetings are an excellent way to meet like minded people and get your next UG adventure on track!
URL:https://mcu.ug/event/mcu-monthly-meeting-17/
END:VEVENT
BEGIN:VEVENT
DTSTART;TZID=Africa/Kampala:20180731T190000
DTEND;TZID=Africa/Kampala:20180731T210000
DTSTAMP:20260425T233235
CREATED:20180510T055051Z
LAST-MODIFIED:20180510T055051Z
UID:1620-1533063600-1533070800@mcu.ug
SUMMARY:Route setting at ISU
DESCRIPTION:
URL:https://mcu.ug/event/route-setting-at-isu-2/
END:VEVENT
BEGIN:VEVENT
DTSTART;TZID=Africa/Kampala:20180729T150000
DTEND;TZID=Africa/Kampala:20180729T190000
DTSTAMP:20260425T233235
CREATED:20180721T085956Z
LAST-MODIFIED:20180721T090041Z
UID:1702-1532876400-1532890800@mcu.ug
SUMMARY:Safety Training @ MCU Quarry
DESCRIPTION:Another awesome Safety Training + Skills Clinics for those interested in volunteering as safeties during our weekly MCU climbing events at the quarry. We’re be holding our next Safety Training on Sunday\, July 29\, followed by a Skills Clinic on building confidence on lead. \nRegister in advance! Get more details via the sign up form here
URL:https://mcu.ug/event/safety-training-mcu-quarry/
END:VEVENT
BEGIN:VEVENT
DTSTART;VALUE=DATE:20180727
DTEND;VALUE=DATE:20180730
DTSTAMP:20260425T233235
CREATED:20180717T062309Z
LAST-MODIFIED:20180717T062512Z
UID:1697-1532649600-1532908799@mcu.ug
SUMMARY:Sipi Falls Trip
DESCRIPTION:Want to get away and spend a weekend in nature\, hiking among waterfalls\, climbing and abseiling\, exploring caves\, and chilling out in nature? Come to Sipi Falls July 27-29! We will stay at Crow’s Nest Camp\, where you can camp with your own gear or book a tent or dorm.\n\n\n \n\nThe plan is to arrive on Friday\, July 27\, spend Saturday\, July 28 hiking/climbing/caving/whatever your heart desires\, and return to Kampala on Sunday\, July 29. You can book accommodation directly with Crow’s Nest at 0752515389.\n\n\n\nTo register\, please fill out this form\n\n\n\n\n\n\nPLEASE ONLY FILL OUT THE GOOGLE FORM IF YOU ARE DEFINITELY JOINING THIS TRIP. Once you’ve registered\, I will add you to a Whatsapp group to plan logistics so we can sort out transportation\, and I will share info on rates for guided hikes and other activities.\n\nThanks!\nYvonne
URL:https://mcu.ug/event/sipi-falls-trip/
END:VEVENT
BEGIN:VEVENT
DTSTART;TZID=Africa/Kampala:20180724T163000
DTEND;TZID=Africa/Kampala:20180724T190000
DTSTAMP:20260425T233235
CREATED:20180510T055045Z
LAST-MODIFIED:20180510T060716Z
UID:1614-1532449800-1532458800@mcu.ug
SUMMARY:Climbing at the MCU Muyenga Quarry
DESCRIPTION:
URL:https://mcu.ug/event/climbing-at-the-mcu-muyenga-quarry-7/
END:VEVENT
BEGIN:VEVENT
DTSTART;TZID=Africa/Kampala:20180721T100000
DTEND;TZID=Africa/Kampala:20180721T160000
DTSTAMP:20260425T233235
CREATED:20180706T133610Z
LAST-MODIFIED:20180706T133754Z
UID:1692-1532167200-1532188800@mcu.ug
SUMMARY:TUBING THE NILE
DESCRIPTION:Time: Start at 10 am from Jinja\, finish between 3 and 4 pm\nPrice: $65 pp\, includes beers\, lunch\, and shuttle from KLA if needed\n\nDetails:\nWondering how to one-up the cool kayaking bros who spend weekends paddling down the Nile’s best white water? Well\, we have the answer! Join us on 21 July as we take on the Nile in inflatable tubes with our friends at Tubing the Nile. You’ll be knocked around on grade 4 and 5 rapids\, and we’ll have cold beers on hand for celebrations/commiserations after the carnage. A shuttle pick-up from Kampala can be arranged for those who need transport – simply let us know on the booking form.\n\nWhat do you need to bring?\nMoney to pay in the morning – USD or shillings.\nShorts & a t-shirt for tubing – quick dry is best but not essential. Make sure it won’t come off if the water is a big vigorous! You will be in the sun and in the water for a good few hours\, so bring high factor sunscreen and make sure to keep applying.\nAny personal medication such as asthma inhaler or epi-pen.\n\nSign up:\nPlease sign up by Thursday 19 June using the google form here: https://docs.google.com/forms/d/e/1FAIpQLSfdck4mpLBk1WNDDtpcFIf_VVEre4BCjTadjg9g9ym6m2U1tA/viewform?c=0&w=1\n \nQuestions?\nGet in touch with Adi at info@mcu.org or Tubing the Nile directly on adamfeshire@ymail.com
URL:https://mcu.ug/event/tubing-the-nile/
END:VEVENT
BEGIN:VEVENT
DTSTART;TZID=Africa/Kampala:20180717T190000
DTEND;TZID=Africa/Kampala:20180717T210000
DTSTAMP:20260425T233235
CREATED:20180510T055030Z
LAST-MODIFIED:20180510T055030Z
UID:1604-1531854000-1531861200@mcu.ug
SUMMARY:Indoor Climbing at ISU
DESCRIPTION:
URL:https://mcu.ug/event/indoor-climbing-at-isu-7/
END:VEVENT
BEGIN:VEVENT
DTSTART;VALUE=DATE:20180714
DTEND;VALUE=DATE:20180716
DTSTAMP:20260425T233235
CREATED:20180607T095825Z
LAST-MODIFIED:20180607T095825Z
UID:1646-1531526400-1531699199@mcu.ug
SUMMARY:MCU Kayaking Weekend - Hairy Lemon Island
DESCRIPTION:This weekend the MCU is headed to Hairy Lemon Island for discounted group lessons with the stellar team at Kayak The Nile.\n\nPaddlers of all levels — especially beginners — are welcome. It’s always a fun weekend out of the big city! For more info\, including MCU discounts\, and anything else you might need to know\, sign up here.\n\nNon-kayakers are more than welcome to come and enjoy a chilled out weekend with MCU. There are plenty of non-kayaking options like swimming\, lounging on the island\, frisbee golf\, and more!\n\nIn addition to signing up using the online form\, please book your accomodation directly with Hairy Lemon Island here. Camping is available as well as dorm rooms\, but book fast!\n\nShuttles for transport are not available\, but after you sign up\, post to our Facebook page and we’ll help you find a ride! If you’re a driver\, let us know!\n\nEmail Josh\, our Kayaking Coordinator at jsg1@ualberta.ca if you have any questions.
URL:https://mcu.ug/event/mcu-kayaking-weekend-hairy-lemon-island-2/
CATEGORIES:Kayaking
END:VEVENT
BEGIN:VEVENT
DTSTART;TZID=Africa/Kampala:20180710T163000
DTEND;TZID=Africa/Kampala:20180710T190000
DTSTAMP:20260425T233235
CREATED:20180510T055045Z
LAST-MODIFIED:20180510T060445Z
UID:1613-1531240200-1531249200@mcu.ug
SUMMARY:Climbing at the MCU Muyenga Quarry
DESCRIPTION:
URL:https://mcu.ug/event/climbing-at-the-mcu-muyenga-quarry-6/
END:VEVENT
BEGIN:VEVENT
DTSTART;VALUE=DATE:20180706
DTEND;VALUE=DATE:20180711
DTSTAMP:20260425T233235
CREATED:20180620T101017Z
LAST-MODIFIED:20180620T101113Z
UID:1668-1530835200-1531267199@mcu.ug
SUMMARY:HIKING MOUNT ELGON
DESCRIPTION:MOUNT ELGON THE 4TH HIGHEST PEAK IN EAST AFRICA \n \nHey Active MCU Crew! Now that the rains have given us a break\, we should go out there and venture into some hiking. Mount Elgon is said to be the fourth highest peak in East Africa\, the 8th highest peak in Africa and the largest volcanic base in the world. Am keen on finding out if it’s true\, do you feel the same? Then let’s go on a fact finding mission. \nThe plan is to leave Kampala on Friday the 6th of July and begin our ascent on the morning of Saturday the 7th of July. The duration spent hiking will be determined by the trails we choose. The sasa trail will need about 3 days\, Sipi trail 4 days and the Piswa trail 5 days. Everyone is free to choose the trail of their choice. \nThe UWA (Ugand Wildlife Authority) Hiking fee for foreigners is USD 75 a day and UGX 75\,000 a day for Ugandan nationals. A camping fee of UGX 20\,000 per day\, a porter fee of UGX 17\,500 per day maximum luggage weight is 18kg. We are responsible for bringing along our own food and cooking utensils\, a cook is available at a UGX 20\,000 fee for every 8 people he cooks for using firewood\, we can bring our own portable gas cookers if not comfortable with wood. We are all expected to bring our own tents and hiking gear but there is also an alternative of renting tents\, sleeping bags and mats from UWA (Uganda Wildlife Authority). I would highly recommend bringing along personal gear for hygiene purposes\, gear can be cheaply purchased from the down town areas of Kampala and am willing to help with that. MCU members are always kind enough to lend some of their stuff if asked nicely on the MCU facebook page. \nThere is plenty of useful information on hiking mount Elgon on the internet which I would advise all interested to read about for a clearer idea of what to expect during the hike \nEmail me at pascqalorna@gmail.com if you are interested in coming along\, a whatsapp group will be created to easen out communication and make more solid plans for the hike. \nPascqa Lorna Abur
URL:https://mcu.ug/event/hiking-mount-elgon/
END:VEVENT
BEGIN:VEVENT
DTSTART;TZID=Africa/Kampala:20180705T193000
DTEND;TZID=Africa/Kampala:20180705T210000
DTSTAMP:20260425T233235
CREATED:20171030T091759Z
LAST-MODIFIED:20171030T093809Z
UID:1416-1530819000-1530824400@mcu.ug
SUMMARY:MCU Monthly Meeting
DESCRIPTION:Join us for our regular meeting to hear about all the trips that have gone on\, upcoming trips\, or to find out how to plan your own.  These meetings are an excellent way to meet like minded people and get your next UG adventure on track!
URL:https://mcu.ug/event/mcu-monthly-meeting-16/
LOCATION:Athina Club\, Kololo\, Uganda
END:VEVENT
BEGIN:VEVENT
DTSTART;TZID=Africa/Kampala:20180703T190000
DTEND;TZID=Africa/Kampala:20180703T210000
DTSTAMP:20260425T233235
CREATED:20180510T055030Z
LAST-MODIFIED:20180510T055030Z
UID:1603-1530644400-1530651600@mcu.ug
SUMMARY:Indoor Climbing at ISU
DESCRIPTION:
URL:https://mcu.ug/event/indoor-climbing-at-isu-6/
END:VEVENT
BEGIN:VEVENT
DTSTART;TZID=Africa/Kampala:20180701T150000
DTEND;TZID=Africa/Kampala:20180701T190000
DTSTAMP:20260425T233235
CREATED:20180622T074132Z
LAST-MODIFIED:20180622T074132Z
UID:1672-1530457200-1530471600@mcu.ug
SUMMARY:Climbing Safety Training & Skills Clinic
DESCRIPTION:MCU is starting up a series of Safety Trainings + Skills Clinics for those interested in volunteering as safeties during our weekly MCU climbing events at the quarry. To get our safeties on the same page\, we’ll be holding our first Safety Training on Sunday\, July 1\, followed by a Skills Clinic on lead climbing/belaying. \nRegister in advance! Get more details via the sign up form here: https://docs.google.com/forms/d/e/1FAIpQLSdlJic5UUDZp6pDqY38CwLLG8Ic7fccYr6RSDvBj7iPoodpmQ/viewform?usp=sf_link. \nSign up early\, because space is limited!
URL:https://mcu.ug/event/climbing-safety-training-skills-clinic/
LOCATION:Muyenga Quarry
END:VEVENT
BEGIN:VEVENT
DTSTART;VALUE=DATE:20180630
DTEND;VALUE=DATE:20180701
DTSTAMP:20260425T233235
CREATED:20180613T131831Z
LAST-MODIFIED:20180613T133251Z
UID:1653-1530316800-1530403199@mcu.ug
SUMMARY:“How To Fix You” Bike Clinic
DESCRIPTION:1st Edition of the “How To Fix You” Bike Clinic 30th June @Ultimate Cycling-Design Hub. 9am-12pm. \nGorilla Bikes and Mountain Club Uganda excited to bring you the first ever coolest Breakfast Bike Clinic in East Africa. \n-Lets connect Riders together\n-Understand the physics and biology (lol) behind your bike functionality.\n-Cool breakfast for social impact (donations to Awamu).\n-Talk about the bike events calendar\n-Bring your bike in to get 1/2 price service.\n-Hints and tips on keeping your bike running smooth. \n  \nFor more info\, check out the facebook event page
URL:https://mcu.ug/event/fix-your-bike/
CATEGORIES:Biking
END:VEVENT
BEGIN:VEVENT
DTSTART;TZID=Africa/Kampala:20180626T163000
DTEND;TZID=Africa/Kampala:20180626T190000
DTSTAMP:20260425T233235
CREATED:20180510T055039Z
LAST-MODIFIED:20180510T060607Z
UID:1612-1530030600-1530039600@mcu.ug
SUMMARY:Climbing at the MCU Muyenga Quarry
DESCRIPTION:
URL:https://mcu.ug/event/climbing-at-the-mcu-muyenga-quarry-5/
END:VEVENT
BEGIN:VEVENT
DTSTART;VALUE=DATE:20180623
DTEND;VALUE=DATE:20180625
DTSTAMP:20260425T233235
CREATED:20180607T095355Z
LAST-MODIFIED:20180607T095355Z
UID:1640-1529712000-1529884799@mcu.ug
SUMMARY:MCU Kayaking Weekend - Bujagali 
DESCRIPTION:This weekend\, the MCU is headed to Jinja and the White Nile River for discounted group lessons with the stellar team at Kayak The Nile.\n\n\nPaddlers of all levels — especially beginners — are welcome. It’s always a fun weekend out of the big city! For more info\, including MCU discounts\, and anything else you might need to know\, sign up here.\n\n\n\nNon-kayakers are more than welcome to come and enjoy a chilled out weekend with MCU. There are plenty of non-kayaking options like swimming\, stand-up paddle boarding\, and more!\n\n\nBe sure to book accommodation with Nile River Explorers or Nile River Camp directly. Camping is available in addition to dorm rooms and safari tents.\n\nFor transport options\, it is possible to sign up for the NRE Shuttle\, but post to our Facebook page and we’ll hep you find a ride! If you’re a driver\, let us know!\n\nEmail Josh\, our Kayaking Coordinator at jsg1@ualberta.ca if you have any questions.
URL:https://mcu.ug/event/mcu-kayaking-weekend-bujagali-3/
END:VEVENT
BEGIN:VEVENT
DTSTART;TZID=Africa/Kampala:20180619T190000
DTEND;TZID=Africa/Kampala:20180619T210000
DTSTAMP:20260425T233235
CREATED:20180510T055019Z
LAST-MODIFIED:20180510T055019Z
UID:1602-1529434800-1529442000@mcu.ug
SUMMARY:Indoor Climbing at ISU
DESCRIPTION:
URL:https://mcu.ug/event/indoor-climbing-at-isu-5/
END:VEVENT
BEGIN:VEVENT
DTSTART;TZID=Africa/Kampala:20180612T163000
DTEND;TZID=Africa/Kampala:20180612T190000
DTSTAMP:20260425T233235
CREATED:20180510T055039Z
LAST-MODIFIED:20180510T060049Z
UID:1611-1528821000-1528830000@mcu.ug
SUMMARY:Climbing at the MCU Muyenga Quarry
DESCRIPTION:
URL:https://mcu.ug/event/climbing-at-the-mcu-muyenga-quarry-4/
END:VEVENT
BEGIN:VEVENT
DTSTART;VALUE=DATE:20180609
DTEND;VALUE=DATE:20180611
DTSTAMP:20260425T233235
CREATED:20180404T071407Z
LAST-MODIFIED:20180404T071639Z
UID:1508-1528502400-1528675199@mcu.ug
SUMMARY:Fun-filled camping weekend at Nabugabo
DESCRIPTION:Location:\nOrchids village Lake Nabugabo at Bukakato road along the Kampala-Masaka highway.\n\nActivities:\nIt’s just one of those weekends that people come out to chill\, un-wind and get a break from the hectic Kampala life. Anything ranging from chilling on a hammock while reading a book or lazying around\, swimming in the lake (bilharzia free and not that deep)\, Kayaking\,hiking/long walk around the area\, biking\,volley ball\, foot ball\, there is a really nice pool table and plenty of cold beers.\n\nFriends\, couples\, families anyone and everyone should tag along. Really nice place for dogs as well\, there is so much space for them to run around.\n\nCosts:\nCamping + 3 meals i.e breakfast\, lunch and a BBQ in the evening  UGX 85\,000\nCamping alone UGX 25\,000 for those who may prefer to bring their own meals there is a kitchen available for them to make their own meals.\n\nEach meal goes for about 25\,000-30\,000 for those who may not need all the 3 meals can just have whichever they prefer.\n\nCottages for those who are not comfortable camping go for UGX 80\,000 BB and UGX 120\,000 FB\n\nThere is only one Kayak at the premises that are rented out at UGX 20\,000 for an hour\, whoever has a kayak of their own is free to come with it.\n\nWhoever wants to bike around the area should come along with their own bikes.\n\nBathrooms at the premises are very clean and their is ample space to sleep up to 100 people.\n\nEssentials to bring along:\nTents\, beddings\, hammocks\, insect repellent\, swimming gears\,sleeping bags\,music\,warm clothing for the night\, trainers/sport shoes for the walk and anything else that feels worth bringing along. i.e a nice bottle of wine\,mash mallows etc\n\nTransportation\nThe destination is accesible by public buses\, we could hire a van if we have a group of about 25-30 people\, self drives for those with their own cars etc. We will figure something out depending on the numbers.\n\nAnyone is free to email me pascqalorna@gmail.com or whatsapp me on +256786822839 for additional information.
URL:https://mcu.ug/event/fun-filled-camping-weekend-at-nabugabo/
LOCATION:Lake Nabugabo
END:VEVENT
END:VCALENDAR