BEGIN:VCALENDAR
VERSION:2.0
PRODID:-//Mountain Club of Uganda - ECPv6.15.18//NONSGML v1.0//EN
CALSCALE:GREGORIAN
METHOD:PUBLISH
X-ORIGINAL-URL:https://mcu.ug
X-WR-CALDESC:Events for Mountain Club of Uganda
REFRESH-INTERVAL;VALUE=DURATION:PT1H
X-Robots-Tag:noindex
X-PUBLISHED-TTL:PT1H
BEGIN:VTIMEZONE
TZID:Africa/Kampala
BEGIN:STANDARD
TZOFFSETFROM:+0300
TZOFFSETTO:+0300
TZNAME:EAT
DTSTART:20210101T000000
END:STANDARD
END:VTIMEZONE
BEGIN:VEVENT
DTSTART;TZID=Africa/Kampala:20220904T120000
DTEND;TZID=Africa/Kampala:20220904T140000
DTSTAMP:20260419T171746
CREATED:20220830T080234Z
LAST-MODIFIED:20220830T080330Z
UID:3202-1662292800-1662300000@mcu.ug
SUMMARY:Belay Clinic
DESCRIPTION:Exciting opportunity for all newbies: Learn all about belay techniques for rock climbing and become an independent climber! \nSign up here \nThe event will take place at the CIU Clarke Quarry on Sunday 4th September from 12 am to 2 pm. The cost is 20\,000 UGX and includes equipment. Please note that only MCU members may attend\, but memberships will be available there for purchase. \nSee you there!
URL:https://mcu.ug/event/3202/
CATEGORIES:Rock Climbing
ATTACH;FMTTYPE=image/jpeg:https://mcu.ug/wp-content/uploads/2022/08/MCU-Belay-Clinic-Post.jpg
END:VEVENT
BEGIN:VEVENT
DTSTART;TZID=Africa/Kampala:20220904T080000
DTEND;TZID=Africa/Kampala:20220904T130000
DTSTAMP:20260419T171746
CREATED:20220830T074922Z
LAST-MODIFIED:20220830T081625Z
UID:3193-1662278400-1662296400@mcu.ug
SUMMARY:Mountain Biking
DESCRIPTION:Together with Bike Shop Uganda we are running social mountain biking trips (Sunday\, half-day) in and around Kampala. \nDepending on the route\, the trips are around 20 to 25km\, starting at 8am (usually at Bike Shop Uganda). The rides finish at around 1 pm. Join our Whatsapp group for detailed information and sign up sheets! \nCosts for MCU members: 10k and extra 10k in case of boat transfer\, bike rental (incl. helmet) 100k. \nFor more information & to sign up please contact Francis on +256 771 650 208.
URL:https://mcu.ug/event/mountain-biking-21/
CATEGORIES:Biking,Mountain Biking,Social
ATTACH;FMTTYPE=image/jpeg:https://mcu.ug/wp-content/uploads/2021/08/WhatsApp-Image-2021-08-15-at-20.33.08.jpeg
END:VEVENT
BEGIN:VEVENT
DTSTART;VALUE=DATE:20220827
DTEND;VALUE=DATE:20220828
DTSTAMP:20260419T171746
CREATED:20220804T070306Z
LAST-MODIFIED:20220804T070306Z
UID:3188-1661558400-1661644799@mcu.ug
SUMMARY:MCU Social
DESCRIPTION:Check our our social media to find out where this month’s MCU Social will take us…
URL:https://mcu.ug/event/mcu-social-4/
ATTACH;FMTTYPE=image/jpeg:https://mcu.ug/wp-content/uploads/2021/04/VUOp0qEw.jpeg
END:VEVENT
BEGIN:VEVENT
DTSTART;VALUE=DATE:20220821
DTEND;VALUE=DATE:20220822
DTSTAMP:20260419T171746
CREATED:20220804T065723Z
LAST-MODIFIED:20220804T065723Z
UID:3186-1661040000-1661126399@mcu.ug
SUMMARY:Mountain Biking
DESCRIPTION:Together with Bike Shop Uganda we are running mountain biking trips (Sunday\, half-day) in and around Kampala. \nDepending on the route\, the trips are around 20 to 25km\, starting at 8am (usually at Bike Shop Uganda). The rides finish at around 1 pm. Join our Whatsapp group for detailed information and sign up sheets! \nCosts for MCU members: 10k and extra 10k in case of boat transfer\, bike rental (incl. helmet) 100k.
URL:https://mcu.ug/event/mountain-biking-20/
ATTACH;FMTTYPE=image/jpeg:https://mcu.ug/wp-content/uploads/2021/08/WhatsApp-Image-2021-08-15-at-20.33.08.jpeg
END:VEVENT
BEGIN:VEVENT
DTSTART;VALUE=DATE:20220812
DTEND;VALUE=DATE:20220815
DTSTAMP:20260419T171746
CREATED:20220804T070546Z
LAST-MODIFIED:20220804T070550Z
UID:3190-1660262400-1660521599@mcu.ug
SUMMARY:Mt. Wati Hiking Trip
DESCRIPTION:MCU is teaming up with our partner Sunny Outdoors again for a hiking trip up Mt.Wati! \nCheck our MCU Hiking WhatsApp group and Social Media for more information and sign up.
URL:https://mcu.ug/event/mt-wati-hiking-trip/
ATTACH;FMTTYPE=image/jpeg:https://mcu.ug/wp-content/uploads/2019/03/hiking.jpg
END:VEVENT
BEGIN:VEVENT
DTSTART;VALUE=DATE:20220807
DTEND;VALUE=DATE:20220808
DTSTAMP:20260419T171746
CREATED:20220804T065632Z
LAST-MODIFIED:20220804T065632Z
UID:3183-1659830400-1659916799@mcu.ug
SUMMARY:Mountain Biking
DESCRIPTION:Together with Bike Shop Uganda we are running mountain biking trips (Sunday\, half-day) in and around Kampala. \nDepending on the route\, the trips are around 20 to 25km\, starting at 8am (usually at Bike Shop Uganda). The rides finish at around 1 pm. Join our Whatsapp group for detailed information and sign up sheets! \nCosts for MCU members: 10k and extra 10k in case of boat transfer\, bike rental (incl. helmet) 100k.
URL:https://mcu.ug/event/mountain-biking-19/
ATTACH;FMTTYPE=image/jpeg:https://mcu.ug/wp-content/uploads/2021/08/WhatsApp-Image-2021-08-15-at-20.33.08.jpeg
END:VEVENT
BEGIN:VEVENT
DTSTART;VALUE=DATE:20220730
DTEND;VALUE=DATE:20220731
DTSTAMP:20260419T171746
CREATED:20220701T150305Z
LAST-MODIFIED:20220701T150305Z
UID:3173-1659139200-1659225599@mcu.ug
SUMMARY:Kampala's Seven Hills Walk and MCU Social
DESCRIPTION:Together with our new partner Sunny Outdoors\, we are organising a walk across all the seven hills in Kampala. A sign up sheet will be shared shortly in our Whatsapp Groups and Social Media channels. \nPlaces we will cover: \nThe Kabaka’s lake\nKabaka’s palace\nThe one mile road\nThe Buganda parliament\nNamirembe cathedral\nGadaffi mosque\nKololo airstrip\nNaguru hill(highest in Kampala)\nKisementi \nThings you should pack: \nHiking clothes( moisture wicking and quick drying)\nGood walking shoes(sneakers\, trail runners\, hiking boots)\nSunhat\nSunglasses\nSunscreen\nWater bladder or bottle(min 2 liters)\nLight rain jacket\nWater and snacks \nAfterwards\, we will gather for an MCU Social in Kisimenti – the details will be announced asap! \n  \n 
URL:https://mcu.ug/event/kampalas-seven-hills-walk-and-mcu-social/
ATTACH;FMTTYPE=image/jpeg:https://mcu.ug/wp-content/uploads/2022/07/WhatsApp-Image-2022-06-30-at-11.24.16.jpeg
END:VEVENT
BEGIN:VEVENT
DTSTART;VALUE=DATE:20220724
DTEND;VALUE=DATE:20220725
DTSTAMP:20260419T171746
CREATED:20220701T150950Z
LAST-MODIFIED:20220701T150950Z
UID:3179-1658620800-1658707199@mcu.ug
SUMMARY:Mountain Biking
DESCRIPTION:Together with Bike Shop Uganda we are running mountain biking trips (Sunday\, half-day) in and around Kampala. \nDepending on the route\, the trips are around 20 to 25km\, starting at 8am (usually at Bike Shop Uganda). The rides finish at around 1 pm. Join our Whatsapp group for detailed information and sign up sheets! \nCosts for MCU members: 10k and extra 10k in case of boat transfer\, bike rental (incl. helmet) 100k.
URL:https://mcu.ug/event/mountain-biking-18/
ATTACH;FMTTYPE=image/jpeg:https://mcu.ug/wp-content/uploads/2021/08/WhatsApp-Image-2021-08-15-at-20.33.08.jpeg
END:VEVENT
BEGIN:VEVENT
DTSTART;VALUE=DATE:20220710
DTEND;VALUE=DATE:20220711
DTSTAMP:20260419T171746
CREATED:20220701T150815Z
LAST-MODIFIED:20220701T150815Z
UID:3177-1657411200-1657497599@mcu.ug
SUMMARY:Mountain Biking
DESCRIPTION:Together with Bike Shop Uganda we are running mountain biking trips (Sunday\, half-day) in and around Kampala. \nDepending on the route\, the trips are around 20 to 25km\, starting at 8am (usually at Bike Shop Uganda). The rides finish at around 1 pm. Join our Whatsapp group for detailed information and sign up sheets! \nCosts for MCU members: 10k and extra 10k in case of boat transfer\, bike rental (incl. helmet) 100k.
URL:https://mcu.ug/event/mountain-biking-17/
ATTACH;FMTTYPE=image/jpeg:https://mcu.ug/wp-content/uploads/2021/08/WhatsApp-Image-2021-08-15-at-20.33.08.jpeg
END:VEVENT
BEGIN:VEVENT
DTSTART;VALUE=DATE:20220709
DTEND;VALUE=DATE:20220710
DTSTAMP:20260419T171746
CREATED:20220602T053345Z
LAST-MODIFIED:20220701T145336Z
UID:3167-1657324800-1657411199@mcu.ug
SUMMARY:Boulder Competition
DESCRIPTION:We’re super stoked to announce MCU’s first Bouldering Competition! This will be a fun event for newbies and advanced boulderers. Join our Thursday Bouldering Sessions at the Roma Wall to train with us 🙂 \n🧗‍♂️ Participation is free to all MCU members and open to all skill levels.\n🥳 Spectators are welcome so come along with your friends & family to add to the cheer and climbing competition spirit. \nThe Boulder Competition will have 2 categories you can sign up for;\nCategory A – 3 fun & beginner-friendly problems. Worried about your route reading skills\, don’t worry\, you’ll get some hints & tips on how to approach each problem. \nCategory B – 4 competition-style problems which will be divided into Men’s & Women’s categories. Strict competition rules will apply\, and you must have completed the Category A problems to qualify participating in these. \nRegistration is Open\, Sign Up here: https://forms.gle/T9k2iU7QrxHjJfU8A \nEntry Requirements:\n⚠️ Please note that MCU membership is required to participate in this competition.\nIf you’re not an MCU member yet\, don’t panic\, registration is easy. Check out our sign up & payment instructions are here: http://mcu.ug/membership/registration/
URL:https://mcu.ug/event/boulder-competition/
ATTACH;FMTTYPE=image/jpeg:https://mcu.ug/wp-content/uploads/2022/06/WhatsApp-Image-2022-06-01-at-09.01.17.jpeg
END:VEVENT
BEGIN:VEVENT
DTSTART;TZID=Africa/Kampala:20220626T080000
DTEND;TZID=Africa/Kampala:20220626T130000
DTSTAMP:20260419T171746
CREATED:20220602T052632Z
LAST-MODIFIED:20220602T052632Z
UID:3162-1656230400-1656248400@mcu.ug
SUMMARY:Mountain biking
DESCRIPTION:Together with Bike Shop Uganda we are running mountain biking trips (Sunday\, half-day) in and around Kampala. \nDepending on the route\, the trips are around 20 to 25km\, starting at 8am (usually at Bike Shop Uganda). The rides finish at around 1 pm. Join our Whatsapp and Facebook group for detailed information! \nCosts for MCU members: 10k and extra 10k in case of boat transfer\, bike rental (incl. helmet) 100k
URL:https://mcu.ug/event/mountain-biking-16/
ATTACH;FMTTYPE=image/jpeg:https://mcu.ug/wp-content/uploads/2019/05/MCU-biking-2.jpg
END:VEVENT
BEGIN:VEVENT
DTSTART;TZID=Africa/Kampala:20220612T080000
DTEND;TZID=Africa/Kampala:20220612T130000
DTSTAMP:20260419T171746
CREATED:20220602T052439Z
LAST-MODIFIED:20220602T052533Z
UID:3159-1655020800-1655038800@mcu.ug
SUMMARY:Mountain biking
DESCRIPTION:Together with Bike Shop Uganda we are running mountain biking trips (Sunday\, half-day) in and around Kampala. \nDepending on the route\, the trips are around 20 to 25km\, starting at 8am (usually at Bike Shop Uganda). The rides finish at around 1 pm. Join our Whatsapp and Facebook group for detailed information! \nCosts for MCU members: 10k and extra 10k in case of boat transfer\, bike rental (incl. helmet) 100k.
URL:https://mcu.ug/event/mountainbiking-2/
ATTACH;FMTTYPE=image/jpeg:https://mcu.ug/wp-content/uploads/2021/08/WhatsApp-Image-2021-08-15-at-20.33.08.jpeg
END:VEVENT
BEGIN:VEVENT
DTSTART;VALUE=DATE:20220529
DTEND;VALUE=DATE:20220530
DTSTAMP:20260419T171746
CREATED:20220428T065102Z
LAST-MODIFIED:20220428T065102Z
UID:3155-1653782400-1653868799@mcu.ug
SUMMARY:Mountain biking
DESCRIPTION:Together with Bike Shop Uganda we are running mountain biking trips (Sunday\, half-day) in and around Kampala. \nDepending on the route\, the trips are around 20 to 25km\, starting at 8am (usually at Bike Shop Uganda). The rides finish at around 1 pm. Join our Whatsapp and Facebook group for detailed information! \nCosts for MCU members: 10k and extra 10k in case of boat transfer\, bike rental (incl. helmet) 100k \nSign up here!
URL:https://mcu.ug/event/mountain-biking-15/
ATTACH;FMTTYPE=image/jpeg:https://mcu.ug/wp-content/uploads/2021/08/WhatsApp-Image-2021-08-15-at-20.33.08.jpeg
END:VEVENT
BEGIN:VEVENT
DTSTART;VALUE=DATE:20220527
DTEND;VALUE=DATE:20220528
DTSTAMP:20260419T171746
CREATED:20220228T182247Z
LAST-MODIFIED:20220228T182254Z
UID:3119-1653609600-1653695999@mcu.ug
SUMMARY:MCU Social
DESCRIPTION:We are excited to start our MCU Socials again! We will meet every last Friday of the month. \nOn May 27\, we will organise an MCU Quiz night and have some drinks together. Everyone is welcome! Details to follow.
URL:https://mcu.ug/event/mcu-social-3/
END:VEVENT
BEGIN:VEVENT
DTSTART;VALUE=DATE:20220521
DTEND;VALUE=DATE:20220522
DTSTAMP:20260419T171746
CREATED:20220428T064155Z
LAST-MODIFIED:20220428T064155Z
UID:3149-1653091200-1653177599@mcu.ug
SUMMARY:Bouldering 101 Workshop
DESCRIPTION:Shout out to all (future) Boulderers out here: \nOn Saturday\, 21 May\, we will meet at our Roma Wall! Timothy and Maria will just be back from the Boulder World Cup in South Korea. They will share some stories and take us through some moves and cool routes. \nSee you there!!
URL:https://mcu.ug/event/bouldering-101-workshop/
ATTACH;FMTTYPE=image/jpeg:https://mcu.ug/wp-content/uploads/2021/09/20210912_151343-e1632157929521.jpg
END:VEVENT
BEGIN:VEVENT
DTSTART;VALUE=DATE:20220515
DTEND;VALUE=DATE:20220516
DTSTAMP:20260419T171746
CREATED:20220428T064748Z
LAST-MODIFIED:20220428T064748Z
UID:3148-1652572800-1652659199@mcu.ug
SUMMARY:Mountain biking
DESCRIPTION:Together with Bike Shop Uganda we are running mountain biking trips (Sunday\, half-day) in and around Kampala. \nDepending on the route\, the trips are around 20 to 25km\, starting at 8am (usually at Bike Shop Uganda). The rides finish at around 1 pm. Join our Whatsapp and Facebook group for detailed information! \nCosts for MCU members: 10k and extra 10k in case of boat transfer\, bike rental (incl. helmet) 100k \nSign up here!
URL:https://mcu.ug/event/mountain-biking-14/
ATTACH;FMTTYPE=image/jpeg:https://mcu.ug/wp-content/uploads/2019/05/MCU-biking-2.jpg
END:VEVENT
BEGIN:VEVENT
DTSTART;VALUE=DATE:20220506
DTEND;VALUE=DATE:20220507
DTSTAMP:20260419T171746
CREATED:20220228T181827Z
LAST-MODIFIED:20220428T062738Z
UID:3116-1651795200-1651881599@mcu.ug
SUMMARY:MCU Social
DESCRIPTION:On 6 May\, we will meet at The Drop in Muyega and screen some climbing movies! At the drop\, food and drinks are available and they even have a Karaoke night afterwards 🙂 Details will be posted on Facebook and our Whatsapp groups!
URL:https://mcu.ug/event/mcu-social-2/
ATTACH;FMTTYPE=image/jpeg:https://mcu.ug/wp-content/uploads/2021/04/DSC04880.jpg
END:VEVENT
BEGIN:VEVENT
DTSTART;VALUE=DATE:20220501
DTEND;VALUE=DATE:20220502
DTSTAMP:20260419T171746
CREATED:20220428T063441Z
LAST-MODIFIED:20220428T065120Z
UID:3146-1651363200-1651449599@mcu.ug
SUMMARY:Mountain biking
DESCRIPTION:Together with Bike Shop Uganda we are running mountain biking trips (Sunday\, half-day) in and around Kampala. \nDepending on the route\, the trips are around 20 to 25km\, starting at 8am (usually at Bike Shop Uganda). The rides finish at around 1 pm. Join our Whatsapp and Facebook group for detailed information! \nCosts for MCU members: 10k and extra 10k in case of boat transfer\, bike rental (incl. helmet) 100k \nSign up here!
URL:https://mcu.ug/event/mountain-biking-8/
ATTACH;FMTTYPE=image/jpeg:https://mcu.ug/wp-content/uploads/2021/08/WhatsApp-Image-2021-08-15-at-20.33.08.jpeg
END:VEVENT
BEGIN:VEVENT
DTSTART;VALUE=DATE:20220430
DTEND;VALUE=DATE:20220502
DTSTAMP:20260419T171746
CREATED:20220428T063220Z
LAST-MODIFIED:20220428T063220Z
UID:3143-1651276800-1651449599@mcu.ug
SUMMARY:Rock & River Weekend Trip
DESCRIPTION:Hi everyone\, no plans yet for next weekend? \nJoin our MCU ROCK & RIVER WEEKEND in Jinja\, from 30th April to 1st May (or perhaps extend since a public holiday is around the corner). This is for EVERYONE\, no matter if you’re an outdoor enthusiast\, curious about trying new water sports or enjoying some swimming\, drinks and fun in a good crowd next to the Nile.\nWe’ll go there on Saturday\, offering an optional stopover in Luwazi to get some climbing in. In case you want to join\, ropes will be provided but please let us know in case you need any other rental gear. If you’re up for taking Kayaking lessons\, there are great discounts (up to 45%) for MCU members or otherwise you can find some other fun equipment to float/paddle around the river. For those who prefer staying on land\, explore the area on a mountain bike or in your running shoes. Depending on the amount of people we get together\, we will also organise a small evening event (boat\, drinks\, sunset…).\nSo basically\, a social weekend with lots of outdoor-fun-opportunities. If you’re interested\, please make sure to sign up until Thursday and indicate what you’re interested in. \nSee you there!!
URL:https://mcu.ug/event/rock-river-weekend-trip/
ATTACH;FMTTYPE=image/jpeg:https://mcu.ug/wp-content/uploads/2022/04/e0d71a52-2015-4cb3-94f3-42c1b44843bc.jpg
END:VEVENT
BEGIN:VEVENT
DTSTART;VALUE=DATE:20220423
DTEND;VALUE=DATE:20220425
DTSTAMP:20260419T171746
CREATED:20220323T075104Z
LAST-MODIFIED:20220323T075104Z
UID:3131-1650672000-1650844799@mcu.ug
SUMMARY:Climbing Trip to Luwazi
DESCRIPTION:MCU is organizing a climbing and camping trip to Luwazi. We climb a lot\, eat together and sleep on top of the cliff with great views and sunsets! \nClimbers who passed the MCU belay test are invited. If  you have not already passed the test\, please go with someone who will belay you. \nTrip fee: 10k UGX per day \nFood (Roasted goat or veggie option): 25k UGX \nSign up here!
URL:https://mcu.ug/event/climbing-trip-to-luwazi/
ATTACH;FMTTYPE=image/jpeg:https://mcu.ug/wp-content/uploads/2021/04/DSC04492.jpg
END:VEVENT
BEGIN:VEVENT
DTSTART;TZID=Africa/Kampala:20220417T080000
DTEND;TZID=Africa/Kampala:20220417T130000
DTSTAMP:20260419T171746
CREATED:20220117T053435Z
LAST-MODIFIED:20220323T075747Z
UID:3088-1650182400-1650200400@mcu.ug
SUMMARY:Mountain Biking
DESCRIPTION:Together with Bike Shop Uganda we are running mountain biking trips (Sunday\, half-day) in and around Kampala. \nDepending on the route\, the trips are around 20 to 25km\, starting at 8am at Beach House Garden Ggaba. The rides finish at around 1 pm. \nCosts for MCU members: 10k and extra 10k in case of boat transfer\, bike rental (incl. helmet) 100k \nSign up here!
URL:https://mcu.ug/event/mountain-biking-11/
ATTACH;FMTTYPE=image/jpeg:https://mcu.ug/wp-content/uploads/2021/08/WhatsApp-Image-2021-08-15-at-20.33.08.jpeg
END:VEVENT
BEGIN:VEVENT
DTSTART;VALUE=DATE:20220410
DTEND;VALUE=DATE:20220411
DTSTAMP:20260419T171746
CREATED:20220323T080317Z
LAST-MODIFIED:20220323T080317Z
UID:3134-1649548800-1649635199@mcu.ug
SUMMARY:Boulder Wall Clean Up
DESCRIPTION:To make our Roma Wall fit for the next months\, we are planning a boulder wall clean up (half) day on 10th April. Help us to maintain MCU’s boulder wall! \nDetails to follow! \n  \n 
URL:https://mcu.ug/event/boulder-wall-clean-up/
ATTACH;FMTTYPE=image/jpeg:https://mcu.ug/wp-content/uploads/2021/09/20210912_151611.jpg
END:VEVENT
BEGIN:VEVENT
DTSTART;TZID=Africa/Kampala:20220403T080000
DTEND;TZID=Africa/Kampala:20220403T130000
DTSTAMP:20260419T171746
CREATED:20220117T053805Z
LAST-MODIFIED:20220329T150449Z
UID:3093-1648972800-1648990800@mcu.ug
SUMMARY:Mountain Biking (Cancelled!)
DESCRIPTION:Unfortunately\, we have to cancel this biking event. The next one is on April 17!
URL:https://mcu.ug/event/mountain-biking-13/
ATTACH;FMTTYPE=image/jpeg:https://mcu.ug/wp-content/uploads/2021/08/WhatsApp-Image-2021-08-15-at-20.33.08.jpeg
END:VEVENT
BEGIN:VEVENT
DTSTART;VALUE=DATE:20220402
DTEND;VALUE=DATE:20220404
DTSTAMP:20260419T171746
CREATED:20220116T080508Z
LAST-MODIFIED:20220323T074353Z
UID:3075-1648857600-1649030399@mcu.ug
SUMMARY:Kayaking Weekend
DESCRIPTION:Together with Kayak the Nile we are running bi-weekly kayaking weekends in Jinja. This is a great opportunity to enjoy kayaking on the Nile for both beginners and experts. Sign up here and have lots of fun on the Nile 🙂 \nHere is all you need to know about our kayaking weekends. \nThere are some slight adjustments to prevent the spread of COVID-19: \n\nTwo trips per month to avoid a big group gathering\nMax. 15 people for one weekend in groups of 3 people\nTime slots to avoid big group briefings or lunch\nMCU is not organizing any accommodation and does not encourage to stay altogether in one camp; there will be also no collective dinner/BBQ plan for the evening\nFor all who hold or plan to purchase the 5 lessons bundle (applies normally for min. 4 MCU members)\, this will be possible for only 10 USD extra per person (more information on pricing in the all-you-need-to-know sheet – find the link in the sign up sheet)\nWe highly encourage everyone who travels together also could stay together in one kayaking group (so kindly check on the level of each other).\nPreventative measurements for COVID-19 must be taken serious. Temperature check on arrival\, sanitize hands on arrival\, masks must be worn (correctly!) when not in the water\, hands should be sanitzed or washed regularly\, social distancing required (as much as is possible). In any case someone gets tested positive for COVID-19 within 14 days after the weekend\, please follow the suggested SOPs by the MCU: https://docs.google.com/document/d/17y_4Czxil21ycWA0674J2rh_ttbkI2WCxgckerHwc94/edit?usp=sharing\n\n  \nWe also have an MCU kayaking Whatsapp group where we send you all the updates – approach us and let us add you!
URL:https://mcu.ug/event/kayaking-weekend-18/
ATTACH;FMTTYPE=image/jpeg:https://mcu.ug/wp-content/uploads/2020/01/Kayaking_Nile-Special_Nadine-Guenther-1.jpg
END:VEVENT
BEGIN:VEVENT
DTSTART;TZID=Africa/Kampala:20220327T080000
DTEND;TZID=Africa/Kampala:20220327T130000
DTSTAMP:20260419T171746
CREATED:20220117T053618Z
LAST-MODIFIED:20220128T140317Z
UID:3090-1648368000-1648386000@mcu.ug
SUMMARY:Mountain Biking
DESCRIPTION:Together with Bike Shop Uganda we are running mountain biking trips (Sunday\, half-day) in and around Kampala. \nDepending on the route\, the trips are around 20 to 25km\, starting at 8am at Beach House Garden Ggaba. The rides finish at around 1 pm. \nCosts for MCU members: 10k and extra 10k in case of boat transfer\, bike rental (incl. helmet) 100k \nSign up here!
URL:https://mcu.ug/event/mountain-biking-12/
ATTACH;FMTTYPE=image/jpeg:https://mcu.ug/wp-content/uploads/2021/08/WhatsApp-Image-2021-08-15-at-20.33.08.jpeg
END:VEVENT
BEGIN:VEVENT
DTSTART;VALUE=DATE:20220326
DTEND;VALUE=DATE:20220328
DTSTAMP:20260419T171746
CREATED:20220116T055942Z
LAST-MODIFIED:20220116T055942Z
UID:3071-1648252800-1648425599@mcu.ug
SUMMARY:Kayaking Weekend
DESCRIPTION:Together with Kayak the Nile we are running bi-weekly kayaking weekends in Jinja. This is a great opportunity to enjoy kayaking on the Nile for both beginners and experts. Sign up here and have lots of fun on the Nile 🙂 \nHere is all you need to know about our kayaking weekends. \nThere are some slight adjustments to prevent the spread of COVID-19: \n\nTwo trips per month to avoid a big group gathering\nMax. 15 people for one weekend in groups of 3 people\nTime slots to avoid big group briefings or lunch\nMCU is not organizing any accommodation and does not encourage to stay altogether in one camp; there will be also no collective dinner/BBQ plan for the evening\nFor all who hold or plan to purchase the 5 lessons bundle (applies normally for min. 4 MCU members)\, this will be possible for only 10 USD extra per person (more information on pricing in the all-you-need-to-know sheet – find the link in the sign up sheet)\nWe highly encourage everyone who travels together also could stay together in one kayaking group (so kindly check on the level of each other).\nPreventative measurements for COVID-19 must be taken serious. Temperature check on arrival\, sanitize hands on arrival\, masks must be worn (correctly!) when not in the water\, hands should be sanitzed or washed regularly\, social distancing required (as much as is possible). In any case someone gets tested positive for COVID-19 within 14 days after the weekend\, please follow the suggested SOPs by the MCU: https://docs.google.com/document/d/17y_4Czxil21ycWA0674J2rh_ttbkI2WCxgckerHwc94/edit?usp=sharing\n\n  \nWe also have an MCU kayaking Whatsapp group where we send you all the updates – approach us and let us add you!
URL:https://mcu.ug/event/kayaking-weekend-17/
ATTACH;FMTTYPE=image/jpeg:https://mcu.ug/wp-content/uploads/2019/05/MCU-Kayaking-1.jpg
END:VEVENT
BEGIN:VEVENT
DTSTART;VALUE=DATE:20220325
DTEND;VALUE=DATE:20220326
DTSTAMP:20260419T171746
CREATED:20220228T181412Z
LAST-MODIFIED:20220228T181412Z
UID:3113-1648166400-1648252799@mcu.ug
SUMMARY:MCU Social
DESCRIPTION:We are excited to start our MCU Socials again! We will meet every last Friday of the month. \nOn March 25\, we will start off with meeting at The Aleph Bar close to Acacia Mall and have some drinks and food together. Everyone is welcome! Bring your friends!
URL:https://mcu.ug/event/mcu-social/
ATTACH;FMTTYPE=image/jpeg:https://mcu.ug/wp-content/uploads/2021/04/VUOp0qEw.jpeg
END:VEVENT
BEGIN:VEVENT
DTSTART;TZID=Africa/Kampala:20220313T080000
DTEND;TZID=Africa/Kampala:20220313T130000
DTSTAMP:20260419T171746
CREATED:20220117T053232Z
LAST-MODIFIED:20220128T135959Z
UID:3086-1647158400-1647176400@mcu.ug
SUMMARY:Mountain Biking
DESCRIPTION:Together with Bike Shop Uganda we are running mountain biking trips (Sunday\, half-day) in and around Kampala. \nDepending on the route\, the trips are around 20 to 25km\, starting at 8am at Beach House Garden Ggaba. The rides finish at around 1 pm. \nCosts for MCU members: 10k and extra 10k in case of boat transfer\, bike rental (incl. helmet) 100k \nSign up here!
URL:https://mcu.ug/event/mountain-biking-10/
ATTACH;FMTTYPE=image/jpeg:https://mcu.ug/wp-content/uploads/2021/08/WhatsApp-Image-2021-08-15-at-20.33.08.jpeg
END:VEVENT
BEGIN:VEVENT
DTSTART;VALUE=DATE:20220312
DTEND;VALUE=DATE:20220314
DTSTAMP:20260419T171746
CREATED:20220116T055713Z
LAST-MODIFIED:20220116T055713Z
UID:3069-1647043200-1647215999@mcu.ug
SUMMARY:Kayaking Weekend
DESCRIPTION:Together with Kayak the Nile we are running bi-weekly kayaking weekends in Jinja. This is a great opportunity to enjoy kayaking on the Nile for both beginners and experts. Sign up here and have lots of fun on the Nile 🙂 \nHere is all you need to know about our kayaking weekends. \nThere are some slight adjustments to prevent the spread of COVID-19: \n\nTwo trips per month to avoid a big group gathering\nMax. 15 people for one weekend in groups of 3 people\nTime slots to avoid big group briefings or lunch\nMCU is not organizing any accommodation and does not encourage to stay altogether in one camp; there will be also no collective dinner/BBQ plan for the evening\nFor all who hold or plan to purchase the 5 lessons bundle (applies normally for min. 4 MCU members)\, this will be possible for only 10 USD extra per person (more information on pricing in the all-you-need-to-know sheet – find the link in the sign up sheet)\nWe highly encourage everyone who travels together also could stay together in one kayaking group (so kindly check on the level of each other).\nPreventative measurements for COVID-19 must be taken serious. Temperature check on arrival\, sanitize hands on arrival\, masks must be worn (correctly!) when not in the water\, hands should be sanitzed or washed regularly\, social distancing required (as much as is possible). In any case someone gets tested positive for COVID-19 within 14 days after the weekend\, please follow the suggested SOPs by the MCU: https://docs.google.com/document/d/17y_4Czxil21ycWA0674J2rh_ttbkI2WCxgckerHwc94/edit?usp=sharing\n\n  \nWe also have an MCU kayaking Whatsapp group where we send you all the updates – approach us and let us add you!
URL:https://mcu.ug/event/kayaking-weekend-16/
ATTACH;FMTTYPE=image/jpeg:https://mcu.ug/wp-content/uploads/2019/05/MCU-Kayaking-1.jpg
END:VEVENT
BEGIN:VEVENT
DTSTART;VALUE=DATE:20220305
DTEND;VALUE=DATE:20220309
DTSTAMP:20260419T171746
CREATED:20220223T084530Z
LAST-MODIFIED:20220223T084530Z
UID:3108-1646438400-1646783999@mcu.ug
SUMMARY:Mt. Moroto Hike
DESCRIPTION:MCU is planning a hiking trip to Mount Moroto for 5th to 8th March. \nMore information can be found in the sign up sheet and will be shared via email shortly\, once you have signed up. We are limited to 10 people\, so make sure to sign up soon if you want to join – the deadline for sign ups is the 28th Feb. \nSign up here to join us! \n 
URL:https://mcu.ug/event/mt-moroto-hike/
ATTACH;FMTTYPE=image/jpeg:https://mcu.ug/wp-content/uploads/2018/06/Lorna-Moroto-43.jpg
END:VEVENT
END:VCALENDAR