BEGIN:VCALENDAR
VERSION:2.0
PRODID:-//Mountain Club of Uganda - ECPv6.15.18//NONSGML v1.0//EN
CALSCALE:GREGORIAN
METHOD:PUBLISH
X-WR-CALNAME:Mountain Club of Uganda
X-ORIGINAL-URL:https://mcu.ug
X-WR-CALDESC:Events for Mountain Club of Uganda
REFRESH-INTERVAL;VALUE=DURATION:PT1H
X-Robots-Tag:noindex
X-PUBLISHED-TTL:PT1H
BEGIN:VTIMEZONE
TZID:Africa/Kampala
BEGIN:STANDARD
TZOFFSETFROM:+0300
TZOFFSETTO:+0300
TZNAME:EAT
DTSTART:20170101T000000
END:STANDARD
END:VTIMEZONE
BEGIN:VEVENT
DTSTART;TZID=Africa/Kampala:20180607T193000
DTEND;TZID=Africa/Kampala:20180607T210000
DTSTAMP:20260426T045558
CREATED:20171030T091702Z
LAST-MODIFIED:20171030T093525Z
UID:1414-1528399800-1528405200@mcu.ug
SUMMARY:MCU Monthly Meeting
DESCRIPTION:Join us for our regular meeting to hear about all the trips that have gone on\, upcoming trips\, or to find out how to plan your own.  These meetings are an excellent way to meet like minded people and get your next UG adventure on track!
URL:https://mcu.ug/event/mcu-monthly-meeting-15/
LOCATION:Athina Club\, Kololo\, Uganda
END:VEVENT
BEGIN:VEVENT
DTSTART;TZID=Africa/Kampala:20180605T190000
DTEND;TZID=Africa/Kampala:20180605T210000
DTSTAMP:20260426T045558
CREATED:20180510T055018Z
LAST-MODIFIED:20180510T055018Z
UID:1601-1528225200-1528232400@mcu.ug
SUMMARY:Indoor Climbing at ISU
DESCRIPTION:
URL:https://mcu.ug/event/indoor-climbing-at-isu-4/
END:VEVENT
BEGIN:VEVENT
DTSTART;TZID=Africa/Kampala:20180603T090000
DTEND;TZID=Africa/Kampala:20180603T120000
DTSTAMP:20260426T045558
CREATED:20170305T125505Z
LAST-MODIFIED:20170305T125505Z
UID:1068-1528016400-1528027200@mcu.ug
SUMMARY:KGB Sunday Ride
DESCRIPTION:Every week the Kampala Group of Bikers (KGB) will organize a fun ride on Sunday morning. The rides will be at an easy pace\, not too long (25-35km) and most important of all: great fun! The rides start from Kabira Country Club at 9am. You can park your car there for free. Our aim is to be back before noon for a good cup of coffee. Make sure to bring water\, food/snacks\, suncream\, a helmet and your bike and some money for coffee or drinks. If you don’t have a bike you can also hire one from Red Dirt Uganda (comes with a helmet) for 65k\, but let us know before the end of Friday. Get in touch with Jan and Thies at Kampala_Group_of_Bikers@yahoogroups.com for more info!
URL:https://mcu.ug/event/kgb-sunday-ride-83/
LOCATION:Kabira Country Club\, Uganda
CATEGORIES:Biking,Mountain Biking
END:VEVENT
BEGIN:VEVENT
DTSTART;VALUE=DATE:20180602
DTEND;VALUE=DATE:20180603
DTSTAMP:20260426T045558
CREATED:20180412T121536Z
LAST-MODIFIED:20180413T121436Z
UID:1519-1527897600-1527983999@mcu.ug
SUMMARY:MCU-Nalubale Rafting Trip
DESCRIPTION:MCU-Nalubale Rafting Trip \n \nMCU and Nalubale are organising a special one-day rafting trip on Saturday 2nd June on a highly discounted price of $110 per person rather than the usual $140. \n  \nThe trip will start in Jinja and end at the Hairy Lemon\, where we’ll be joined by the MCU kayaking weekend and have a big fancy dress party in the evening which is always one of MCU’s social highlights.  \n  \nThe trip costs include: \n\n4-5 hours of incredible grade 4-5 whitewater and a 25km journey down the mighty White Nile\nTransport from Kampala\nTravel back to Kampala is only included if you travel back on the same day and don’t stay at the Hairy Lemon\nBreakfast\, lunch\, water and plenty of beers \nPhotos\n\nTake a look at the Nalubale website if you’d like to get more info www.nalubalerafting.com. \n  \nWhat you need for the trip: \n\nSunscreen!\nPreferably quick dry long-sleeve clothes. People most commonly burn their legs on rafting trips\, so if you have wear leggings or other pants that go over your knees\, but don’t wear jeans. \n\nKayakers: \nKayakers are welcome to kayak along\, either for free and then they receive no services or for $20 and then they get lunch\, drinks and transport between Jinja and the river. Only experienced kayakers are allowed to participate. \nAccomodation: \nPlease make sure to book with the Hairy Lemon (www.hairylemonuganda.com) to join us for a great night at one of the most beautiful places in Uganda. The Hairy Lemon is an island and they need to plan for food\, so please make sure you book in advance. \n  \nPlease sign-up for the trip under https://goo.gl/forms/PSkLOuD4G073duzh1 and email laurabierer@gmail.com if you have any questions. \n 
URL:https://mcu.ug/event/1519/
LOCATION:Hairy Lemon Island\, Uganda
END:VEVENT
BEGIN:VEVENT
DTSTART;TZID=Africa/Kampala:20180529T190000
DTEND;TZID=Africa/Kampala:20180529T210000
DTSTAMP:20260426T045558
CREATED:20180510T055051Z
LAST-MODIFIED:20180525T131110Z
UID:1619-1527620400-1527627600@mcu.ug
SUMMARY:Climbing at the MCU Muyenga quarry
DESCRIPTION:
URL:https://mcu.ug/event/route-setting-at-isu/
END:VEVENT
BEGIN:VEVENT
DTSTART;TZID=Africa/Kampala:20180527T090000
DTEND;TZID=Africa/Kampala:20180527T120000
DTSTAMP:20260426T045558
CREATED:20170305T125503Z
LAST-MODIFIED:20170305T125503Z
UID:1067-1527411600-1527422400@mcu.ug
SUMMARY:KGB Sunday Ride
DESCRIPTION:Every week the Kampala Group of Bikers (KGB) will organize a fun ride on Sunday morning. The rides will be at an easy pace\, not too long (25-35km) and most important of all: great fun! The rides start from Kabira Country Club at 9am. You can park your car there for free. Our aim is to be back before noon for a good cup of coffee. Make sure to bring water\, food/snacks\, suncream\, a helmet and your bike and some money for coffee or drinks. If you don’t have a bike you can also hire one from Red Dirt Uganda (comes with a helmet) for 65k\, but let us know before the end of Friday. Get in touch with Jan and Thies at Kampala_Group_of_Bikers@yahoogroups.com for more info!
URL:https://mcu.ug/event/kgb-sunday-ride-82/
LOCATION:Kabira Country Club\, Uganda
CATEGORIES:Biking,Mountain Biking
END:VEVENT
BEGIN:VEVENT
DTSTART;VALUE=DATE:20180525
DTEND;VALUE=DATE:20180528
DTSTAMP:20260426T045558
CREATED:20180510T054406Z
LAST-MODIFIED:20180510T054406Z
UID:1592-1527206400-1527465599@mcu.ug
SUMMARY:Mount Muhavura/Muhabura hike
DESCRIPTION:Hello Active people!!! It’s time we got a break from the hustle and bustle in Kampala by heading to Kisoro\, in south western Uganda to hike Mount Muhavura/Muhabura. \n \nMount Muhavura/Muhabura stands at a height of about 4\,127m high/13\,450 ft and must be hiked in a day. It is a bit of a steep hike best to come fully prepared for a bit of a challenge – sounds like so much fun!!! \nThe plan is to depart from Kampala on Friday the 25th of May\, Start the hike early Saturday morning on the 26th of May and return to Kampala on Sunday the 27th of May. If you don’t reside in Kampala but still wanna come along\, you are more than welcome. \nEmail me (Pascqa Lorna-MCU trip co-odinator) on pascqalorna@gmail.com if you are interested in coming along. There is plenty of useful information on the internet about Mount Muhavura\, I strongly advice for all interested to read through so you have a clearer idea of what to expect and how best to prepare for the hike. \nFeel free to forward your questions to me as well\, I will try my best to help as much as possible.
URL:https://mcu.ug/event/mount-muhavura-muhabura-hike/
END:VEVENT
BEGIN:VEVENT
DTSTART;TZID=Africa/Kampala:20180522T163000
DTEND;TZID=Africa/Kampala:20180522T190000
DTSTAMP:20260426T045558
CREATED:20180510T055038Z
LAST-MODIFIED:20180510T055038Z
UID:1610-1527006600-1527015600@mcu.ug
SUMMARY:Climbing at the MCU Muyenga Quarry
DESCRIPTION:
URL:https://mcu.ug/event/climbing-at-the-mcu-muyenga-quarry-3/
END:VEVENT
BEGIN:VEVENT
DTSTART;TZID=Africa/Kampala:20180520T090000
DTEND;TZID=Africa/Kampala:20180520T120000
DTSTAMP:20260426T045558
CREATED:20170305T125502Z
LAST-MODIFIED:20170305T125502Z
UID:1066-1526806800-1526817600@mcu.ug
SUMMARY:KGB Sunday Ride
DESCRIPTION:Every week the Kampala Group of Bikers (KGB) will organize a fun ride on Sunday morning. The rides will be at an easy pace\, not too long (25-35km) and most important of all: great fun! The rides start from Kabira Country Club at 9am. You can park your car there for free. Our aim is to be back before noon for a good cup of coffee. Make sure to bring water\, food/snacks\, suncream\, a helmet and your bike and some money for coffee or drinks. If you don’t have a bike you can also hire one from Red Dirt Uganda (comes with a helmet) for 65k\, but let us know before the end of Friday. Get in touch with Jan and Thies at Kampala_Group_of_Bikers@yahoogroups.com for more info!
URL:https://mcu.ug/event/kgb-sunday-ride-81/
LOCATION:Kabira Country Club\, Uganda
CATEGORIES:Biking,Mountain Biking
END:VEVENT
BEGIN:VEVENT
DTSTART;VALUE=DATE:20180519
DTEND;VALUE=DATE:20180520
DTSTAMP:20260426T045558
CREATED:20180412T124207Z
LAST-MODIFIED:20180412T124320Z
UID:1526-1526688000-1526774399@mcu.ug
SUMMARY:MCU Kayaking Weekend - Bujagali
DESCRIPTION:This weekend\, the MCU is headed to Jinja and the White Nile River for discounted group lessons with the stellar team at Kayak The Nile.\n\n\nPaddlers of all levels — especially beginners — are welcome. It’s always a fun weekend out of the big city! For more info\, including MCU discounts\, and anything else you might need to know\, sign up here.\n\n\n\nNon-kayakers are more than welcome to come and enjoy a chilled out weekend with MCU. There are plenty of non-kayaking options like swimming\, stand-up paddle boarding\, and more!\n\n\nBe sure to book accommodation with Nile River Explorers or Nile River Camp directly. Camping is available in addition to dorm rooms and safari tents.\n\nFor transport options\, it is possible to sign up for the NRE Shuttle\, but post to our Facebook page and we’ll hep you find a ride! If you’re a driver\, let us know!\n\nEmail Josh\, our Kayaking Coordinator at jsg1@ualberta.ca if you have any questions.
URL:https://mcu.ug/event/mcu-kayaking-weekend-bujagali-2/
END:VEVENT
BEGIN:VEVENT
DTSTART;TZID=Africa/Kampala:20180515T190000
DTEND;TZID=Africa/Kampala:20180515T210000
DTSTAMP:20260426T045558
CREATED:20180510T055018Z
LAST-MODIFIED:20180510T055018Z
UID:1600-1526410800-1526418000@mcu.ug
SUMMARY:Indoor Climbing at ISU
DESCRIPTION:
URL:https://mcu.ug/event/indoor-climbing-at-isu-3/
END:VEVENT
BEGIN:VEVENT
DTSTART;TZID=Africa/Kampala:20180513T090000
DTEND;TZID=Africa/Kampala:20180513T120000
DTSTAMP:20260426T045558
CREATED:20170305T125502Z
LAST-MODIFIED:20170305T125502Z
UID:1065-1526202000-1526212800@mcu.ug
SUMMARY:KGB Sunday Ride
DESCRIPTION:Every week the Kampala Group of Bikers (KGB) will organize a fun ride on Sunday morning. The rides will be at an easy pace\, not too long (25-35km) and most important of all: great fun! The rides start from Kabira Country Club at 9am. You can park your car there for free. Our aim is to be back before noon for a good cup of coffee. Make sure to bring water\, food/snacks\, suncream\, a helmet and your bike and some money for coffee or drinks. If you don’t have a bike you can also hire one from Red Dirt Uganda (comes with a helmet) for 65k\, but let us know before the end of Friday. Get in touch with Jan and Thies at Kampala_Group_of_Bikers@yahoogroups.com for more info!
URL:https://mcu.ug/event/kgb-sunday-ride-80/
LOCATION:Kabira Country Club\, Uganda
CATEGORIES:Biking,Mountain Biking
END:VEVENT
BEGIN:VEVENT
DTSTART;TZID=Africa/Kampala:20180508T163000
DTEND;TZID=Africa/Kampala:20180508T190000
DTSTAMP:20260426T045558
CREATED:20180510T055037Z
LAST-MODIFIED:20180510T055037Z
UID:1609-1525797000-1525806000@mcu.ug
SUMMARY:Climbing at the MCU Muyenga Quarry
DESCRIPTION:
URL:https://mcu.ug/event/climbing-at-the-mcu-muyenga-quarry-2/
END:VEVENT
BEGIN:VEVENT
DTSTART;TZID=Africa/Kampala:20180506T090000
DTEND;TZID=Africa/Kampala:20180506T120000
DTSTAMP:20260426T045558
CREATED:20170305T125501Z
LAST-MODIFIED:20170305T125501Z
UID:1064-1525597200-1525608000@mcu.ug
SUMMARY:KGB Sunday Ride
DESCRIPTION:Every week the Kampala Group of Bikers (KGB) will organize a fun ride on Sunday morning. The rides will be at an easy pace\, not too long (25-35km) and most important of all: great fun! The rides start from Kabira Country Club at 9am. You can park your car there for free. Our aim is to be back before noon for a good cup of coffee. Make sure to bring water\, food/snacks\, suncream\, a helmet and your bike and some money for coffee or drinks. If you don’t have a bike you can also hire one from Red Dirt Uganda (comes with a helmet) for 65k\, but let us know before the end of Friday. Get in touch with Jan and Thies at Kampala_Group_of_Bikers@yahoogroups.com for more info!
URL:https://mcu.ug/event/kgb-sunday-ride-79/
LOCATION:Kabira Country Club\, Uganda
CATEGORIES:Biking,Mountain Biking
END:VEVENT
BEGIN:VEVENT
DTSTART;VALUE=DATE:20180504
DTEND;VALUE=DATE:20180507
DTSTAMP:20260426T045558
CREATED:20180419T055700Z
LAST-MODIFIED:20180419T055700Z
UID:1538-1525392000-1525651199@mcu.ug
SUMMARY:The Red Dirt Mountainbike festival
DESCRIPTION:The Red Dirt Mountainbike festival: the event where every mountain biker and outdoor enthusiast should be \n \nRed Dirt organises an exciting weekend full of activities for young and old\, Ugandan and International\, beginners and experts. \nOn Friday evening the festival kicks off with a night ride. Saturday it continues with a lot of cycling activities like tours\, clinics and an obstacle course. Next to that there will be multiple other outdoor activities such as rope courses\, climbing and family activities. Sunday will be all about the big race where everybody can show of their skills. For more info about all the activities and the complete programme: http://reddirtuganda.com/programme/ \nGather your friends and family and spend the weekend at the Red Dirt Mountainbike Festival. It takes place at Lake Side Adventure Park\, just a 15 minute boat ride away from Kampala. Make sure you don’t miss this amazing event and get your tickets via: http://reddirtuganda.com/ticket/ \nMCU members have a 10% discount on the entry fee so don’t forget your MCU card!
URL:https://mcu.ug/event/the-red-dirt-mountainbike-festival/
END:VEVENT
BEGIN:VEVENT
DTSTART;TZID=Africa/Kampala:20180503T193000
DTEND;TZID=Africa/Kampala:20180503T210000
DTSTAMP:20260426T045558
CREATED:20171030T091541Z
LAST-MODIFIED:20171030T091541Z
UID:1412-1525375800-1525381200@mcu.ug
SUMMARY:MCU Monthly Meeting
DESCRIPTION:Join us for our regular meeting to hear about all the trips that have gone on\, upcoming trips\, or to find out how to plan your own.  These meetings are an excellent way to meet like minded people and get your next UG adventure on track!
URL:https://mcu.ug/event/mcu-monthly-meeting-14/
LOCATION:Athina Club\, Kololo\, Uganda
END:VEVENT
BEGIN:VEVENT
DTSTART;TZID=Africa/Kampala:20180501T190000
DTEND;TZID=Africa/Kampala:20180501T210000
DTSTAMP:20260426T045558
CREATED:20180510T055017Z
LAST-MODIFIED:20180510T055017Z
UID:1599-1525201200-1525208400@mcu.ug
SUMMARY:Indoor Climbing at ISU
DESCRIPTION:
URL:https://mcu.ug/event/indoor-climbing-at-isu-2/
END:VEVENT
BEGIN:VEVENT
DTSTART;TZID=Africa/Kampala:20180429T090000
DTEND;TZID=Africa/Kampala:20180429T120000
DTSTAMP:20260426T045558
CREATED:20170305T125500Z
LAST-MODIFIED:20170305T125500Z
UID:1063-1524992400-1525003200@mcu.ug
SUMMARY:KGB Sunday Ride
DESCRIPTION:Every week the Kampala Group of Bikers (KGB) will organize a fun ride on Sunday morning. The rides will be at an easy pace\, not too long (25-35km) and most important of all: great fun! The rides start from Kabira Country Club at 9am. You can park your car there for free. Our aim is to be back before noon for a good cup of coffee. Make sure to bring water\, food/snacks\, suncream\, a helmet and your bike and some money for coffee or drinks. If you don’t have a bike you can also hire one from Red Dirt Uganda (comes with a helmet) for 65k\, but let us know before the end of Friday. Get in touch with Jan and Thies at Kampala_Group_of_Bikers@yahoogroups.com for more info!
URL:https://mcu.ug/event/kgb-sunday-ride-78/
LOCATION:Kabira Country Club\, Uganda
CATEGORIES:Biking,Mountain Biking
END:VEVENT
BEGIN:VEVENT
DTSTART;TZID=Africa/Kampala:20180424T163000
DTEND;TZID=Africa/Kampala:20180424T190000
DTSTAMP:20260426T045558
CREATED:20180510T055036Z
LAST-MODIFIED:20180510T055036Z
UID:1608-1524587400-1524596400@mcu.ug
SUMMARY:Climbing at the MCU Muyenga Quarry
DESCRIPTION:
URL:https://mcu.ug/event/climbing-at-the-mcu-muyenga-quarry/
END:VEVENT
BEGIN:VEVENT
DTSTART;TZID=Africa/Kampala:20180422T090000
DTEND;TZID=Africa/Kampala:20180422T120000
DTSTAMP:20260426T045558
CREATED:20170305T125457Z
LAST-MODIFIED:20170305T125457Z
UID:1062-1524387600-1524398400@mcu.ug
SUMMARY:KGB Sunday Ride
DESCRIPTION:Every week the Kampala Group of Bikers (KGB) will organize a fun ride on Sunday morning. The rides will be at an easy pace\, not too long (25-35km) and most important of all: great fun! The rides start from Kabira Country Club at 9am. You can park your car there for free. Our aim is to be back before noon for a good cup of coffee. Make sure to bring water\, food/snacks\, suncream\, a helmet and your bike and some money for coffee or drinks. If you don’t have a bike you can also hire one from Red Dirt Uganda (comes with a helmet) for 65k\, but let us know before the end of Friday. Get in touch with Jan and Thies at Kampala_Group_of_Bikers@yahoogroups.com for more info!
URL:https://mcu.ug/event/kgb-sunday-ride-77/
LOCATION:Kabira Country Club\, Uganda
CATEGORIES:Biking,Mountain Biking
END:VEVENT
BEGIN:VEVENT
DTSTART;VALUE=DATE:20180421
DTEND;VALUE=DATE:20180423
DTSTAMP:20260426T045558
CREATED:20180306T054853Z
LAST-MODIFIED:20180306T054853Z
UID:1502-1524268800-1524441599@mcu.ug
SUMMARY:MCU Kayaking Weekend - Bujagali
DESCRIPTION:This weekend\, the MCU is headed to Jinja and the White Nile River for discounted group lessons with the stellar team at Kayak The Nile.\n\n\nPaddlers of all levels — especially beginners — are welcome. It’s always a fun weekend out of the big city! For more info\, including MCU discounts\, and anything else you might need to know\, sign up here.\n\n\n\nNon-kayakers are more than welcome to come and enjoy a chilled out weekend with MCU. There are plenty of non-kayaking options like swimming\, stand-up paddle boarding\, and more!\n\n\nBe sure to book accommodation with Nile River Explorers or Nile River Camp directly. Camping is available in addition to dorm rooms and safari tents.\n\nFor transport options\, it is possible to sign up for the NRE Shuttle\, but post to our Facebook page and we’ll hep you find a ride! If you’re a driver\, let us know!\n\nEmail Josh\, our Kayaking Coordinator at jsg1@ualberta.ca if you have any questions.
URL:https://mcu.ug/event/mcu-kayaking-weekend-bujagali/
END:VEVENT
BEGIN:VEVENT
DTSTART;TZID=Africa/Kampala:20180417T190000
DTEND;TZID=Africa/Kampala:20180417T210000
DTSTAMP:20260426T045558
CREATED:20180510T055017Z
LAST-MODIFIED:20180510T055017Z
UID:1598-1523991600-1523998800@mcu.ug
SUMMARY:Indoor Climbing at ISU
DESCRIPTION:
URL:https://mcu.ug/event/indoor-climbing-at-isu/
END:VEVENT
BEGIN:VEVENT
DTSTART;TZID=Africa/Kampala:20180415T090000
DTEND;TZID=Africa/Kampala:20180415T120000
DTSTAMP:20260426T045558
CREATED:20170305T125457Z
LAST-MODIFIED:20170305T125457Z
UID:1061-1523782800-1523793600@mcu.ug
SUMMARY:KGB Sunday Ride
DESCRIPTION:Every week the Kampala Group of Bikers (KGB) will organize a fun ride on Sunday morning. The rides will be at an easy pace\, not too long (25-35km) and most important of all: great fun! The rides start from Kabira Country Club at 9am. You can park your car there for free. Our aim is to be back before noon for a good cup of coffee. Make sure to bring water\, food/snacks\, suncream\, a helmet and your bike and some money for coffee or drinks. If you don’t have a bike you can also hire one from Red Dirt Uganda (comes with a helmet) for 65k\, but let us know before the end of Friday. Get in touch with Jan and Thies at Kampala_Group_of_Bikers@yahoogroups.com for more info!
URL:https://mcu.ug/event/kgb-sunday-ride-76/
LOCATION:Kabira Country Club\, Uganda
CATEGORIES:Biking,Mountain Biking
END:VEVENT
BEGIN:VEVENT
DTSTART;TZID=Africa/Kampala:20180412T193000
DTEND;TZID=Africa/Kampala:20180412T213000
DTSTAMP:20260426T045558
CREATED:20171030T090706Z
LAST-MODIFIED:20180410T132745Z
UID:1410-1523561400-1523568600@mcu.ug
SUMMARY:MCU Monthly Meeting
DESCRIPTION:Join us for our regular meeting to hear about all the trips that have gone on\, upcoming trips\, or to find out how to plan your own.  These meetings are an excellent way to meet like minded people and get your next UG adventure on track!
URL:https://mcu.ug/event/mcu-monthly-meeting-11/
LOCATION:Bushpig\, 31 John Babiha (Acacia) Ave\, Kampala
END:VEVENT
BEGIN:VEVENT
DTSTART;TZID=Africa/Kampala:20180408T090000
DTEND;TZID=Africa/Kampala:20180408T120000
DTSTAMP:20260426T045558
CREATED:20170305T125456Z
LAST-MODIFIED:20170305T125456Z
UID:1060-1523178000-1523188800@mcu.ug
SUMMARY:KGB Sunday Ride
DESCRIPTION:Every week the Kampala Group of Bikers (KGB) will organize a fun ride on Sunday morning. The rides will be at an easy pace\, not too long (25-35km) and most important of all: great fun! The rides start from Kabira Country Club at 9am. You can park your car there for free. Our aim is to be back before noon for a good cup of coffee. Make sure to bring water\, food/snacks\, suncream\, a helmet and your bike and some money for coffee or drinks. If you don’t have a bike you can also hire one from Red Dirt Uganda (comes with a helmet) for 65k\, but let us know before the end of Friday. Get in touch with Jan and Thies at Kampala_Group_of_Bikers@yahoogroups.com for more info!
URL:https://mcu.ug/event/kgb-sunday-ride-75/
LOCATION:Kabira Country Club\, Uganda
CATEGORIES:Biking,Mountain Biking
END:VEVENT
BEGIN:VEVENT
DTSTART;TZID=Africa/Kampala:20180401T090000
DTEND;TZID=Africa/Kampala:20180401T120000
DTSTAMP:20260426T045558
CREATED:20170305T125456Z
LAST-MODIFIED:20170305T125456Z
UID:1059-1522573200-1522584000@mcu.ug
SUMMARY:KGB Sunday Ride
DESCRIPTION:Every week the Kampala Group of Bikers (KGB) will organize a fun ride on Sunday morning. The rides will be at an easy pace\, not too long (25-35km) and most important of all: great fun! The rides start from Kabira Country Club at 9am. You can park your car there for free. Our aim is to be back before noon for a good cup of coffee. Make sure to bring water\, food/snacks\, suncream\, a helmet and your bike and some money for coffee or drinks. If you don’t have a bike you can also hire one from Red Dirt Uganda (comes with a helmet) for 65k\, but let us know before the end of Friday. Get in touch with Jan and Thies at Kampala_Group_of_Bikers@yahoogroups.com for more info!
URL:https://mcu.ug/event/kgb-sunday-ride-74/
LOCATION:Kabira Country Club\, Uganda
CATEGORIES:Biking,Mountain Biking
END:VEVENT
BEGIN:VEVENT
DTSTART;TZID=Africa/Kampala:20180325T090000
DTEND;TZID=Africa/Kampala:20180325T120000
DTSTAMP:20260426T045558
CREATED:20170305T125455Z
LAST-MODIFIED:20170305T125455Z
UID:1058-1521968400-1521979200@mcu.ug
SUMMARY:KGB Sunday Ride
DESCRIPTION:Every week the Kampala Group of Bikers (KGB) will organize a fun ride on Sunday morning. The rides will be at an easy pace\, not too long (25-35km) and most important of all: great fun! The rides start from Kabira Country Club at 9am. You can park your car there for free. Our aim is to be back before noon for a good cup of coffee. Make sure to bring water\, food/snacks\, suncream\, a helmet and your bike and some money for coffee or drinks. If you don’t have a bike you can also hire one from Red Dirt Uganda (comes with a helmet) for 65k\, but let us know before the end of Friday. Get in touch with Jan and Thies at Kampala_Group_of_Bikers@yahoogroups.com for more info!
URL:https://mcu.ug/event/kgb-sunday-ride-73/
LOCATION:Kabira Country Club\, Uganda
CATEGORIES:Biking,Mountain Biking
END:VEVENT
BEGIN:VEVENT
DTSTART;VALUE=DATE:20180324
DTEND;VALUE=DATE:20180326
DTSTAMP:20260426T045558
CREATED:20180306T054724Z
LAST-MODIFIED:20180306T054724Z
UID:1500-1521849600-1522022399@mcu.ug
SUMMARY:MCU Kayaking Weekend - Hairy Lemon Island
DESCRIPTION:This weekend the MCU is headed to Hairy Lemon Island for discounted group lessons with the stellar team at Kayak The Nile.\n\nPaddlers of all levels — especially beginners — are welcome. It’s always a fun weekend out of the big city! For more info\, including MCU discounts\, and anything else you might need to know\, sign up here.\n\nNon-kayakers are more than welcome to come and enjoy a chilled out weekend with MCU. There are plenty of non-kayaking options like swimming\, lounging on the island\, frisbee golf\, and more!\n\nIn addition to signing up using the online form\, please book your accomodation directly with Hairy Lemon Island here. Camping is available as well as dorm rooms\, but book fast!\n\nShuttles for transport are not available\, but after you sign up\, post to our Facebook page and we’ll help you find a ride! If you’re a driver\, let us know!\n\nEmail Josh\, our Kayaking Coordinator at jsg1@ualberta.ca if you have any questions.
URL:https://mcu.ug/event/mcu-kayaking-weekend-hairy-lemon-island/
LOCATION:Hairy Lemon Island\, Uganda
END:VEVENT
BEGIN:VEVENT
DTSTART;TZID=Africa/Kampala:20180318T090000
DTEND;TZID=Africa/Kampala:20180318T120000
DTSTAMP:20260426T045558
CREATED:20170305T125453Z
LAST-MODIFIED:20170305T125453Z
UID:1057-1521363600-1521374400@mcu.ug
SUMMARY:KGB Sunday Ride
DESCRIPTION:Every week the Kampala Group of Bikers (KGB) will organize a fun ride on Sunday morning. The rides will be at an easy pace\, not too long (25-35km) and most important of all: great fun! The rides start from Kabira Country Club at 9am. You can park your car there for free. Our aim is to be back before noon for a good cup of coffee. Make sure to bring water\, food/snacks\, suncream\, a helmet and your bike and some money for coffee or drinks. If you don’t have a bike you can also hire one from Red Dirt Uganda (comes with a helmet) for 65k\, but let us know before the end of Friday. Get in touch with Jan and Thies at Kampala_Group_of_Bikers@yahoogroups.com for more info!
URL:https://mcu.ug/event/kgb-sunday-ride-72/
LOCATION:Kabira Country Club\, Uganda
CATEGORIES:Biking,Mountain Biking
END:VEVENT
BEGIN:VEVENT
DTSTART;VALUE=DATE:20180317
DTEND;VALUE=DATE:20180319
DTSTAMP:20260426T045558
CREATED:20180227T115239Z
LAST-MODIFIED:20180227T152941Z
UID:1484-1521244800-1521417599@mcu.ug
SUMMARY:Girls Gone Nile
DESCRIPTION:It’s time for another Girls Gone Nile weekend\, which offers us kayaking ladies the chance to improve our skills and push ourselves that little bit harder without the pressure of having the guys around while having an awesome time hanging out with each other. \nWe’ll spend Saturday surfing Superhole\, where we can work on our surfing and rolling skills in a more protected environment. You should have taken at least 3 lessons with KTN and have some basic rolling skills to come to Superhole. \nOn Sunday\, we’ll be doing a river run where we’ll be going down all the big stuff and spend some time at Nile Special at the end. For this you should have done at least one river run before. The ladies that aren’t good enough yet can organise a lesson with KTN on the Sunday. \nWe’ll be camping at the famous Land right by Superhole on Saturday night\, cook our own food and enjoy some drinks around the fire. \nAnyone not into kayaking\, or not quite good enough yet can join us for the social side and enjoy hanging out at the Land. \nIf you dont have your own camping gear\, see whether you can share a tent with someone or post on the MCU facebook page whether you can borrow the equipment. The same goes for rides to Jinja\, if you have rides to offer or need a ride\, please post on the MCU facebook page. \nSign up here \nWe’ll be sending an email with the rest of the info on the 14th March\, in the meantime if you have any questions please contact laurabierer@gmail.com.
URL:https://mcu.ug/event/girls-gone-nile/
CATEGORIES:Kayaking,Social
END:VEVENT
END:VCALENDAR