BEGIN:VCALENDAR
VERSION:2.0
PRODID:-//Mountain Club of Uganda - ECPv6.15.18//NONSGML v1.0//EN
CALSCALE:GREGORIAN
METHOD:PUBLISH
X-WR-CALNAME:Mountain Club of Uganda
X-ORIGINAL-URL:https://mcu.ug
X-WR-CALDESC:Events for Mountain Club of Uganda
REFRESH-INTERVAL;VALUE=DURATION:PT1H
X-Robots-Tag:noindex
X-PUBLISHED-TTL:PT1H
BEGIN:VTIMEZONE
TZID:Africa/Kampala
BEGIN:STANDARD
TZOFFSETFROM:+0300
TZOFFSETTO:+0300
TZNAME:EAT
DTSTART:20200101T000000
END:STANDARD
END:VTIMEZONE
BEGIN:VEVENT
DTSTART;VALUE=DATE:20210604
DTEND;VALUE=DATE:20210611
DTSTAMP:20260425T171209
CREATED:20210513T055456Z
LAST-MODIFIED:20210513T055456Z
UID:2917-1622764800-1623369599@mcu.ug
SUMMARY:Rwenzori Hiking Trip
DESCRIPTION:There are two public holidays coming up\, reason enough to go a bit bigger this time. So join us on the way to the highest peak of Uganda on 4th to 10th June! We’ll be hiking the beautiful Rwenzori Mountains and climbing Margherita peak during this 7 day trek. \nIn case you don’t want to do the full hike\, there are loads of other hiking option around – we could still share rides\, probably walk some days together and catch up again after the hike. \nWe’ll go with Rwenzori Mountaineering Service and there will be a special discount for MCU members. The trek fee is including guide\, food\, porters\, park fee\, bed nights fee and does not include sleeping bags\, crampons\, ice axe\, harnesses (can be rented\, order in advance)\, accomodation before and after the hike\, transport – for 677 USD for foreign residents / 554 USD for nationals. Please be aware that this trek is for firm hikers and MCU members only. \nIf you want to join\, please sign up on the sign up sheet until 21st May. \nYou’ll receive more information in an email\, including details about the trek\, itinerary\, sleeping spots before and after\, shared rides etc. \nPlease email sabine.ebner@gmx.net if you have any questions.
URL:https://mcu.ug/event/rwenzori-hiking-trip/
CATEGORIES:Hiking
ATTACH;FMTTYPE=image/jpeg:https://mcu.ug/wp-content/uploads/2019/05/MCU-hiking-1.jpg
END:VEVENT
BEGIN:VEVENT
DTSTART;TZID=Africa/Kampala:20210606T120000
DTEND;TZID=Africa/Kampala:20210606T160000
DTSTAMP:20260425T171209
CREATED:20210602T131914Z
LAST-MODIFIED:20210602T131914Z
UID:2957-1622980800-1622995200@mcu.ug
SUMMARY:Belay Clinic
DESCRIPTION:Exciting opportunity for all newbies: Learn all about belay techniques for rock climbing and become an independent climber! \nSign up here \nThe event will take place at Bukasa Wall on Sunday\, June 6 from 12 am to 4 pm. The cost is 20\,000 UGX and includes equipment. Please note that only MCU members may attend\, but memberships will be available there for purchase. \nSee you there!
URL:https://mcu.ug/event/belay-clinic-2/
ATTACH;FMTTYPE=image/jpeg:https://mcu.ug/wp-content/uploads/2021/04/DSC04492.jpg
END:VEVENT
BEGIN:VEVENT
DTSTART;VALUE=DATE:20210626
DTEND;VALUE=DATE:20210627
DTSTAMP:20260425T171209
CREATED:20210429T144042Z
LAST-MODIFIED:20210617T181923Z
UID:2897-1624665600-1624751999@mcu.ug
SUMMARY:Day trip to Luwazi
DESCRIPTION:The MCU is organizing monthly trips to Luwazi. Due to the current Corona situation\, we will only have a day trip to Luwazi this time. Sign up here! \nClimbers who passed the MCU belay test are invited. If you have not already passed the test\, please go with someone who will belay you. \nBring your mask and wear it! \nTrip fee: 20k UGX per day \n  \nIf you have any questions\, you can contact Zach for more information: 0791276553
URL:https://mcu.ug/event/climbing-weekend-at-luwazi/
ATTACH;FMTTYPE=image/jpeg:https://mcu.ug/wp-content/uploads/2021/04/DSC04880.jpg
END:VEVENT
BEGIN:VEVENT
DTSTART;TZID=Africa/Kampala:20210627T080000
DTEND;TZID=Africa/Kampala:20210627T130000
DTSTAMP:20260425T171209
CREATED:20210526T144303Z
LAST-MODIFIED:20210526T144303Z
UID:2941-1624780800-1624798800@mcu.ug
SUMMARY:Social Ride & Run
DESCRIPTION:Together with Red Dirt Uganda we are running guided mountain biking and trail running tours in and around Kampala every last Sunday of the month. Runners and bikers are both welcome! \nWe take a boat from Beach House at Lake Victoria at 8am. Choose between a bike tour of around 30km or a run of around 12km in a beautiful environment. Runners and bikers share the same boat and go back again together. \nCosts: UGX 20k for boat and guide. Bring your own bike or rent one and a helmet for 100k. \nAny questions? Contact Sabine at sabine.ebner@gmx.net
URL:https://mcu.ug/event/social-ride-run-2/
ATTACH;FMTTYPE=image/jpeg:https://mcu.ug/wp-content/uploads/2016/10/14606309_543392649182542_4326483183842993159_n.jpg
END:VEVENT
END:VCALENDAR