BEGIN:VCALENDAR
VERSION:2.0
PRODID:-//Mountain Club of Uganda - ECPv6.15.18//NONSGML v1.0//EN
CALSCALE:GREGORIAN
METHOD:PUBLISH
X-WR-CALNAME:Mountain Club of Uganda
X-ORIGINAL-URL:https://mcu.ug
X-WR-CALDESC:Events for Mountain Club of Uganda
REFRESH-INTERVAL;VALUE=DURATION:PT1H
X-Robots-Tag:noindex
X-PUBLISHED-TTL:PT1H
BEGIN:VTIMEZONE
TZID:Africa/Kampala
BEGIN:STANDARD
TZOFFSETFROM:+0300
TZOFFSETTO:+0300
TZNAME:EAT
DTSTART:20200101T000000
END:STANDARD
END:VTIMEZONE
BEGIN:VEVENT
DTSTART;VALUE=DATE:20210717
DTEND;VALUE=DATE:20210719
DTSTAMP:20260425T190021
CREATED:20210503T131529Z
LAST-MODIFIED:20210503T131529Z
UID:2904-1626480000-1626652799@mcu.ug
SUMMARY:Luwazi Climbing Weekend
DESCRIPTION:The MCU is organizing monthly trips to Luwazi. We climb a lot\, eat together and sleep on top of the cliff with great views and sunsets! \nClimbers who passed the MCU belay test are invited. If  you have not already passed the test\, please go with someone who will belay you. \nTrip fee: 10k UGX per day \nFood (Roasted goat or veggie option): 25k UGX \nSign up sheet \nIf you have any questions\, you can contact Zach for more information: 0791276553
URL:https://mcu.ug/event/luwazi-climbing-weekend/
ATTACH;FMTTYPE=image/jpeg:https://mcu.ug/wp-content/uploads/2021/04/DSC04880.jpg
END:VEVENT
BEGIN:VEVENT
DTSTART;TZID=Africa/Kampala:20210725T080000
DTEND;TZID=Africa/Kampala:20210725T130000
DTSTAMP:20260425T190021
CREATED:20210526T144448Z
LAST-MODIFIED:20210526T144448Z
UID:2943-1627200000-1627218000@mcu.ug
SUMMARY:Social Ride & Run
DESCRIPTION:Together with Red Dirt Uganda we are running guided mountain biking and trail running tours in and around Kampala every last Sunday of the month. Runners and bikers are both welcome! \nWe take a boat from Beach House at Lake Victoria at 8am. Choose between a bike tour of around 30km or a run of around 12km in a beautiful environment. Runners and bikers share the same boat and go back again together. \nCosts: UGX 20k for boat and guide. Bring your own bike or rent one and a helmet for 100k. \nAny questions? Contact Sabine at sabine.ebner@gmx.net
URL:https://mcu.ug/event/social-ride-run-3/
ATTACH;FMTTYPE=image/jpeg:https://mcu.ug/wp-content/uploads/2016/10/14117751_522822331239574_7965215805601728569_n.jpg
END:VEVENT
END:VCALENDAR