BEGIN:VCALENDAR
VERSION:2.0
PRODID:-//Mountain Club of Uganda - ECPv6.15.18//NONSGML v1.0//EN
CALSCALE:GREGORIAN
METHOD:PUBLISH
X-WR-CALNAME:Mountain Club of Uganda
X-ORIGINAL-URL:https://mcu.ug
X-WR-CALDESC:Events for Mountain Club of Uganda
REFRESH-INTERVAL;VALUE=DURATION:PT1H
X-Robots-Tag:noindex
X-PUBLISHED-TTL:PT1H
BEGIN:VTIMEZONE
TZID:Africa/Kampala
BEGIN:STANDARD
TZOFFSETFROM:+0300
TZOFFSETTO:+0300
TZNAME:EAT
DTSTART:20210101T000000
END:STANDARD
END:VTIMEZONE
BEGIN:VEVENT
DTSTART;VALUE=DATE:20220212
DTEND;VALUE=DATE:20220214
DTSTAMP:20260422T163952
CREATED:20220116T054326Z
LAST-MODIFIED:20220116T054947Z
UID:3064-1644624000-1644796799@mcu.ug
SUMMARY:Kayaking Weekend
DESCRIPTION:Together with Kayak the Nile we are running bi-weekly kayaking weekends in Jinja. This is a great opportunity to enjoy kayaking on the Nile for both beginners and experts. Sign up here and have lots of fun on the Nile 🙂 \nHere is all you need to know about our kayaking weekends. \nThere are some slight adjustments to prevent the spread of COVID-19: \n\nTwo trips per month to avoid a big group gathering\nMax. 15 people for one weekend in groups of 3 people\nTime slots to avoid big group briefings or lunch\nMCU is not organizing any accommodation and does not encourage to stay altogether in one camp; there will be also no collective dinner/BBQ plan for the evening\nFor all who hold or plan to purchase the 5 lessons bundle (applies normally for min. 4 MCU members)\, this will be possible for only 10 USD extra per person (more information on pricing in the all-you-need-to-know sheet – find the link in the sign up sheet)\nWe highly encourage everyone who travels together also could stay together in one kayaking group (so kindly check on the level of each other).\nPreventative measurements for COVID-19 must be taken serious. Temperature check on arrival\, sanitize hands on arrival\, masks must be worn (correctly!) when not in the water\, hands should be sanitzed or washed regularly\, social distancing required (as much as is possible). In any case someone gets tested positive for COVID-19 within 14 days after the weekend\, please follow the suggested SOPs by the MCU: https://docs.google.com/document/d/17y_4Czxil21ycWA0674J2rh_ttbkI2WCxgckerHwc94/edit?usp=sharing\n\nWe also have an MCU kayaking Whatsapp group where we send you all the updates – approach us and let us add you!
URL:https://mcu.ug/event/kayaking-weekend-14/
ATTACH;FMTTYPE=image/jpeg:https://mcu.ug/wp-content/uploads/2019/05/MCU-Kayaking-1.jpg
END:VEVENT
BEGIN:VEVENT
DTSTART;TZID=Africa/Kampala:20220213T080000
DTEND;TZID=Africa/Kampala:20220213T130000
DTSTAMP:20260422T163952
CREATED:20220117T053033Z
LAST-MODIFIED:20220128T135652Z
UID:3083-1644739200-1644757200@mcu.ug
SUMMARY:Mountain Biking
DESCRIPTION:Together with Bike Shop Uganda we are running bi-weekly mountain biking trips (Sunday\, half-day) in and around Kampala. \nDepending on the route\, the trips are around 20 to 25km\, starting at 8am at Beach House Garden Ggaba. The rides finish at around 1 pm. \nCosts for MCU members: 10k and extra 10k in case of boat transfer\, bike rental (incl. helmet) 100k \nSign up here!
URL:https://mcu.ug/event/mountain-biking-9/
ATTACH;FMTTYPE=image/jpeg:https://mcu.ug/wp-content/uploads/2021/08/WhatsApp-Image-2021-08-15-at-20.33.08.jpeg
END:VEVENT
BEGIN:VEVENT
DTSTART;VALUE=DATE:20220226
DTEND;VALUE=DATE:20220228
DTSTAMP:20260422T163952
CREATED:20220116T055217Z
LAST-MODIFIED:20220116T055217Z
UID:3067-1645833600-1646006399@mcu.ug
SUMMARY:Kayaking Weekend
DESCRIPTION:Together with Kayak the Nile we are running bi-weekly kayaking weekends in Jinja. This is a great opportunity to enjoy kayaking on the Nile for both beginners and experts. Sign up here and have lots of fun on the Nile 🙂 \nHere is all you need to know about our kayaking weekends. \nThere are some slight adjustments to prevent the spread of COVID-19: \n\nTwo trips per month to avoid a big group gathering\nMax. 15 people for one weekend in groups of 3 people\nTime slots to avoid big group briefings or lunch\nMCU is not organizing any accommodation and does not encourage to stay altogether in one camp; there will be also no collective dinner/BBQ plan for the evening\nFor all who hold or plan to purchase the 5 lessons bundle (applies normally for min. 4 MCU members)\, this will be possible for only 10 USD extra per person (more information on pricing in the all-you-need-to-know sheet – find the link in the sign up sheet)\nWe highly encourage everyone who travels together also could stay together in one kayaking group (so kindly check on the level of each other).\nPreventative measurements for COVID-19 must be taken serious. Temperature check on arrival\, sanitize hands on arrival\, masks must be worn (correctly!) when not in the water\, hands should be sanitzed or washed regularly\, social distancing required (as much as is possible). In any case someone gets tested positive for COVID-19 within 14 days after the weekend\, please follow the suggested SOPs by the MCU: https://docs.google.com/document/d/17y_4Czxil21ycWA0674J2rh_ttbkI2WCxgckerHwc94/edit?usp=sharing\n\n  \nWe also have an MCU Kayaking Whatsapp group where we send you all the updates – approach us and let us add you!
URL:https://mcu.ug/event/kayaking-weekend-15/
ATTACH;FMTTYPE=image/jpeg:https://mcu.ug/wp-content/uploads/2019/05/MCU-Kayaking-2.jpg
END:VEVENT
END:VCALENDAR